BEGIN:VCALENDAR
VERSION:2.0
PRODID:-//Rauma Festivo 4.-8.8.2026 - ECPv6.15.20//NONSGML v1.0//EN
CALSCALE:GREGORIAN
METHOD:PUBLISH
X-WR-CALNAME:Rauma Festivo 4.-8.8.2026
X-ORIGINAL-URL:https://raumafestivo.fi
X-WR-CALDESC:Tapahtumat Rauma Festivo 4.-8.8.2026
REFRESH-INTERVAL;VALUE=DURATION:PT1H
X-Robots-Tag:noindex
X-PUBLISHED-TTL:PT1H
BEGIN:VTIMEZONE
TZID:UTC
BEGIN:STANDARD
TZOFFSETFROM:+0000
TZOFFSETTO:+0000
TZNAME:UTC
DTSTART:20210101T000000
END:STANDARD
END:VTIMEZONE
BEGIN:VTIMEZONE
TZID:Europe/Moscow
BEGIN:STANDARD
TZOFFSETFROM:+0300
TZOFFSETTO:+0300
TZNAME:MSK
DTSTART:20210101T000000
END:STANDARD
END:VTIMEZONE
BEGIN:VEVENT
DTSTART;TZID=UTC:20220803T120000
DTEND;TZID=UTC:20220803T120000
DTSTAMP:20260423T060842
CREATED:20220730T090700Z
LAST-MODIFIED:20220730T090700Z
UID:4958-1659528000-1659528000@raumafestivo.fi
SUMMARY:Festivo-tori: Maailmankansalaiset
DESCRIPTION:Kun leipä palasina maailmalla ja  taide vaatii usein toiselle mantereelle siirtymisen. Mikä on parasta? Entä pahinta? Keskustelemassa sirkustaiteilija Jay Gilligan ja sopraano Marjukka Tepponen . \nVapaa pääsy. \nFestivon keskipäivän hetkessä Rauman Kauppatorilla Festivon taiteilijat ja mukaan kutsutut raumalaiset keskustelevat maailmankansalaisuudesta\, historiankirjoituksesta pois pudotetuista ja taiteellisen yhteistyön ihanuudesta ja kamaluudesta. 
URL:https://raumafestivo.fi/event/festivo-tori-maailmankansalaiset/
LOCATION:Rauman kauppatori\, Rauma\, 26100
ATTACH;FMTTYPE=image/jpeg:https://raumafestivo.fi/wp-content/uploads/FB-taustakuva-scaled.jpg
END:VEVENT
BEGIN:VEVENT
DTSTART;TZID=UTC:20220803T160000
DTEND;TZID=UTC:20220803T160000
DTSTAMP:20260423T060842
CREATED:20220711T210056Z
LAST-MODIFIED:20220726T170605Z
UID:4825-1659542400-1659542400@raumafestivo.fi
SUMMARY:Kahvilakonsertti I
DESCRIPTION:Café Sali\, Kuninkaankatu 22\nRauma Festivon kahvilakonserttisarja Café Salissa torin laidalla avataan suomalaisella viulumusiikilla. Turun Taideakatemiassa syntynyt duo soittaa Sibeliuksen\, Rautavaaran ja Väinö Raition teoksia. Vapaa pääsy!\n\nEsiintyjät: Tuuli Raitio\, viulu & Josefin Kavén\, piano\n\nOhjelma\nVäinö Raitio (1891–1945): Elegia\nJean Sibelius (1865–1957): Kuusi kappaletta viululle ja pianolle op. 79 / 1. Souvenir; 5. Tanz-Idylle & 6. Berceuse\nEinojuhani Rautavaara (1928–2016): Notturno e Danza
URL:https://raumafestivo.fi/event/kahvilakonsertti-i/
LOCATION:Cafe Sali\, Kuninkaankatu 22\, Rauma\, 26100\, Suomi
ATTACH;FMTTYPE=image/jpeg:https://raumafestivo.fi/wp-content/uploads/FB-taustakuva-scaled.jpg
END:VEVENT
BEGIN:VEVENT
DTSTART;TZID=Europe/Moscow:20220803T190000
DTEND;TZID=Europe/Moscow:20220803T190000
DTSTAMP:20260423T060842
CREATED:20220331T181948Z
LAST-MODIFIED:20220726T170702Z
UID:4487-1659553200-1659553200@raumafestivo.fi
SUMMARY:Taituruuden anarkia
DESCRIPTION:Rauma-sali\, Satamakatu 26\nHurmioidu taidon äärimmäiseen hiomiseen elämästään hyvän osan omistaneiden taiteilijoiden esityksistä! Lavalla mm. virtuoosiviulisti Petteri Iivonen\, maailmanluokan sirkustaiteilija Jay Gilligan ja breakdance-ammattilainen Simeoni ”Slyrre äS” Juoperi. Viulisti\, ohjaaja Siljamari Heikinheimo ja tanssitaiteilija Auri Ahola toimivat illan gaalaemäntinä. \nOhjelmassa mm.\nSirkustaiteilija Jay Gilliganin soolo\nTanssitaiteilija Simeoni Juoperin breakdance-soolo\nTiina Karakorpi soittaa Ravelin Scarbon triptyykistä Gaspard de la nuit\nTytti Arola: Uusi teos kahdelle viulistille (kantaesitys)\nViulisti Petteri Iivosen virtuoosinumeroita\nJ. S. Bach: Allegro assai\nW. A. Mozart: Rondo Haffner-serenadista\nNiccoló Paganini: Nel cor piu non mi sento\nAntonio Bazzini La Ronde des Lutins\nHenryk Wieniawski: Poloneesi A-duuri\nPjotr Tšaikovski: Scherzo teoksesta Souvenir d’un lieu cher op. 42\nJohn Corigliano: Kapriisit elokuvasta The Red Violin \n\n\n\n\n\n\nPetteri Iivonen\, Terhi Paldanius & Eriikka Maalismaa\, viulu\nTiina Karakorpi & Salla Pynssi\, piano\nSimeoni ”Slyrre äS”\, tanssitaitelija\nJay Gilligan\, sirkustaiteilija \nLiput 35 € / 10 € + mahdolliset toimitus- ja palvelumaksut\nOsta liput täältä
URL:https://raumafestivo.fi/event/taituruuden-anarkia/
LOCATION:Rauma-sali\, Satamakatu 26\, Rauma\, Suomi
ATTACH;FMTTYPE=image/jpeg:https://raumafestivo.fi/wp-content/uploads/echo-rings-scaled-e1657986017433.jpg
END:VEVENT
END:VCALENDAR