BEGIN:VCALENDAR
VERSION:2.0
PRODID:-//Rauma Festivo 4.-8.8.2026 - ECPv6.15.20//NONSGML v1.0//EN
CALSCALE:GREGORIAN
METHOD:PUBLISH
X-WR-CALNAME:Rauma Festivo 4.-8.8.2026
X-ORIGINAL-URL:https://raumafestivo.fi
X-WR-CALDESC:Tapahtumat Rauma Festivo 4.-8.8.2026
REFRESH-INTERVAL;VALUE=DURATION:PT1H
X-Robots-Tag:noindex
X-PUBLISHED-TTL:PT1H
BEGIN:VTIMEZONE
TZID:UTC
BEGIN:STANDARD
TZOFFSETFROM:+0000
TZOFFSETTO:+0000
TZNAME:UTC
DTSTART:20210101T000000
END:STANDARD
END:VTIMEZONE
BEGIN:VTIMEZONE
TZID:Europe/Moscow
BEGIN:STANDARD
TZOFFSETFROM:+0300
TZOFFSETTO:+0300
TZNAME:MSK
DTSTART:20210101T000000
END:STANDARD
END:VTIMEZONE
BEGIN:VEVENT
DTSTART;TZID=UTC:20220806T120000
DTEND;TZID=UTC:20220806T120000
DTSTAMP:20260423T061946
CREATED:20220730T092652Z
LAST-MODIFIED:20220730T092652Z
UID:4966-1659787200-1659787200@raumafestivo.fi
SUMMARY:Festivo-tori: Miltä tunne näyttää
DESCRIPTION:Miten pitsiperinteen uudistaja ja soihdunkantaja Tarmo Thorström ja kuvataitelija-muusikko Laura Hynninnen ovat päätyneet tekijöiksi Rauma Festivossa nähtävään näyttämöteokseen Toscan muotokuva. Tulokulma on molemmilla omansa: toisella käsityöläisyys\, toisella musiikki. Miten Toscan muotokuvan prosessi on edennyt heidän kannaltaan? \nFestivon keskipäivän hetkessä Rauman Kauppatorilla Festivon taiteilijat ja mukaan kutsutut raumalaiset keskustelevat maailmankansalaisuudesta\, historiankirjoituksesta pois pudotetuista ja taiteellisen yhteistyön ihanuudesta ja kamaluudesta. Vapaa pääsy.
URL:https://raumafestivo.fi/event/festivo-tori-milta-tunne-nayttaa/
LOCATION:Rauman kauppatori\, Rauma\, 26100
ATTACH;FMTTYPE=image/jpeg:https://raumafestivo.fi/wp-content/uploads/FB-taustakuva-scaled.jpg
END:VEVENT
BEGIN:VEVENT
DTSTART;TZID=Europe/Moscow:20220806T140000
DTEND;TZID=Europe/Moscow:20220806T140000
DTSTAMP:20260423T061946
CREATED:20220331T185553Z
LAST-MODIFIED:20220726T171250Z
UID:4498-1659794400-1659794400@raumafestivo.fi
SUMMARY:Oi muusat!
DESCRIPTION:Kulttuuritalo Poselli\, Nortamonkatu 12\nMusiikinhistorian kuuluisin kolmiodraama Clara Schumannin\, Robert Schumannin ja Johannes Brahmsin välillä sisälsi hurjasti huolenpitoa ja tuotti hurmioitunutta kamarimusiikkia. Nuoren Robertin Fantasiassa pianolle soi intohimo vielä tavoittamattomissa olevaan Claraan; Brahmsin f-mollipianokvintetto löysi lopullisen muotonsa Claran kannustettua häntä vapauttamaan kahden pianon sonaattiin ansaan jäänyt valtava potentiaali. Vihdoin meidän aikamme on vapauttanut myös Clara Schumannin sävellykset takaisin konserttilavoille! \nClara Schumann (1819–1896): Kolme romanssia viululle ja pianolle\nRobert Schumann (1810–1856): Fantasia pianolle C-duuri op. 17\nJohannes Brahms (1833–1897): Pianokvintetto f-molli op. 34 \nTiina Karakorpi\, piano\nSiljamari Heikinheimo\, Petteri Iivonen & Leena Jaakkola\, viulu\nRémi Moingeon\, alttoviulu\nSamuli Peltonen\, sello \nLiput 25 € / 10 €\nOsta liput täältä
URL:https://raumafestivo.fi/event/oi-muusat/
LOCATION:Kulttuuritalo Poselli\, Nortamonkatu 12\, Rauma
ATTACH;FMTTYPE=image/png:https://raumafestivo.fi/wp-content/uploads/Nayttokuva-2022-5-30-kello-21.27.34.png
END:VEVENT
BEGIN:VEVENT
DTSTART;TZID=UTC:20220806T160000
DTEND;TZID=UTC:20220806T160000
DTSTAMP:20260423T061946
CREATED:20220711T211321Z
LAST-MODIFIED:20220726T171441Z
UID:4830-1659801600-1659801600@raumafestivo.fi
SUMMARY:Kahvilakonsertti III
DESCRIPTION:Café Sali\, Kuninkaankatu 22\nRomantiikan hehkua jousitrion voimin – Rauma Festivon kahvilakonserttisarja päätetään Melartinin ja Borodinin säveliin. Vapaa pääsy!\n\nEsiintyjät: Ekin Kuzukiran\, viulu; Yanan Bai\, alttoviulu & Elis Hakola\, sello\n\nOhjelma\nErkki Melartin (1875–1937): Jousitrio a-molli op.133\nAlexander Borodin (1833–1887): Jousitrio g-molli venäläiseen kansanlauluun
URL:https://raumafestivo.fi/event/kahvilakonsertti-iii/
LOCATION:Cafe Sali\, Kuninkaankatu 22\, Rauma\, 26100\, Suomi
ATTACH;FMTTYPE=image/jpeg:https://raumafestivo.fi/wp-content/uploads/FB-taustakuva-scaled.jpg
END:VEVENT
BEGIN:VEVENT
DTSTART;TZID=Europe/Moscow:20220806T190000
DTEND;TZID=Europe/Moscow:20220806T190000
DTSTAMP:20260423T061946
CREATED:20220331T185859Z
LAST-MODIFIED:20220726T171343Z
UID:4500-1659812400-1659812400@raumafestivo.fi
SUMMARY:Toscan muotokuva
DESCRIPTION:Kulttuuritalo Poselli\, Nortamonkatu 12\nEntisen rukoushuoneen intiimissä tilassa koetaan näyttämöllinen kamariversio Puccinin oopperasta Tosca. Siljamari Heikinheimon ohjaaman ja Auri Aholan koreografioiman teoksen nimiosassa debytoi maailmalla Puccini-rooleistaan ylistetty sopraano Marjukka Tepponen. Poliisipäällikkö Scarpiana laulaa amerikkalaislähtöinen baritoni Kevin Greenlaw\, ja taidemaalari Cavaradossina on walesilainen tenori Sam Furness. Laura Hynninen langenneen enkelin roolissa maalaa väreiksi ja muodoiksi esityksen osana näkyville sen\, mitä libretto ei lausu ääneen. \nGiacomo Puccini (1858–1924): Tosca\nLibretto Luigi Illica & Giuseppe Giacosa\nSov. Øysten Sonstad \nSovitus kolmelle laulajalle ja jousikvartetille\nMarjukka Tepponen\, Floria Tosca\nSam Furness\, Mario Cavaradossi\nKevin Greenlaw\, paroni Scarpia\nLaura Hynninen\, arkkienkeli (mykkärooli) \nOhjaus Siljamari Heikinheimo\nKoreografia Auri Ahola \nPetteri Iivonen & Maija Linkola\, viulu\nRémi Moingeon\, alttoviulu\nSamuli Peltonen\, sello \nLiput 49 € / 30 €\nOsta liput täältä
URL:https://raumafestivo.fi/event/toscan-muotokuva/
LOCATION:Kulttuuritalo Poselli\, Nortamonkatu 12\, Rauma
ATTACH;FMTTYPE=image/jpeg:https://raumafestivo.fi/wp-content/uploads/Marjukka_Tepponen-kopio.jpg
END:VEVENT
END:VCALENDAR