BEGIN:VCALENDAR
VERSION:2.0
PRODID:-//Rauma Festivo 4.-8.8.2026 - ECPv6.15.20//NONSGML v1.0//EN
CALSCALE:GREGORIAN
METHOD:PUBLISH
X-ORIGINAL-URL:https://raumafestivo.fi
X-WR-CALDESC:Tapahtumat Rauma Festivo 4.-8.8.2026
REFRESH-INTERVAL;VALUE=DURATION:PT1H
X-Robots-Tag:noindex
X-PUBLISHED-TTL:PT1H
BEGIN:VTIMEZONE
TZID:Europe/Moscow
BEGIN:STANDARD
TZOFFSETFROM:+0300
TZOFFSETTO:+0300
TZNAME:MSK
DTSTART:20220101T000000
END:STANDARD
END:VTIMEZONE
BEGIN:VEVENT
DTSTART;TZID=Europe/Moscow:20230801T101500
DTEND;TZID=Europe/Moscow:20230801T101500
DTSTAMP:20260418T063448
CREATED:20230728T065754Z
LAST-MODIFIED:20230728T065905Z
UID:5446-1690884900-1690884900@raumafestivo.fi
SUMMARY:Mur-karhun työpajat klo 10.15 ja 14.45
DESCRIPTION:Mur-karhun työpajat klo 10.15 ja 14.45.\nMinkä niminen on rakkain tuntemasi metsä?\nMiltä tuntuisi olla yksi sen puista?\nKirjoitetaan rakkauskirje metsälle ja istutetaan puu.\nOhjaajina toimivat lastenkirjailija Kaisa Happonen\, kuvataiteilija Anne Vasko ja viulisti Siljamari Heikinheimo. \n45 minuuttia kestävään työpajaan voi ilmoittautua ennakkoon info@raumafestivo.fi ja varmistaa paikan! Kerro viestissä lasten määrä ja iät (suositus 4-10 vuotta) sekä kumpaan työpajaan tulette. Oma aikuinen on mukana koko toiminnan ajan. \nTyöpajat ovat maksuttomia.
URL:https://raumafestivo.fi/event/mur-karhun-tyopajat-klo-10-15-ja-14-45/
LOCATION:Kulttuuritalo Poselli\, Nortamonkatu 12\, Rauma
ATTACH;FMTTYPE=image/jpeg:https://raumafestivo.fi/wp-content/uploads/Metsan-ilta-1-kopio.jpg
END:VEVENT
BEGIN:VEVENT
DTSTART;TZID=Europe/Moscow:20230801T120000
DTEND;TZID=Europe/Moscow:20230801T120000
DTSTAMP:20260418T063448
CREATED:20230729T201917Z
LAST-MODIFIED:20230729T202223Z
UID:5458-1690891200-1690891200@raumafestivo.fi
SUMMARY:Festivo-tori x Lintu ja Kala! Ralf Gothóni & Taina Myllyharju
DESCRIPTION:Rauma Festivon taiteilijat ja Rauman Taidemuseon Lintu ja Kala! -näyttelyn tekijät keskustelevat kulttuurista taidemuseon pihassa! Keskipäivän tuokioihin on vapaa pääsy. \nTiistaina Rauma Festivon perustaja\, pianisti Ralf Gothóni ja Raumalle vastikään paluumuuttanut museoamanuenssi Taina Myllyharju pohtivat\, miten kasvuympäristö kulkee maailmalla mukana. \nVapaa pääsy! \nYhteistyössä: Rauman Taidemuseo
URL:https://raumafestivo.fi/event/festivo-tori-tiistai/
LOCATION:Pinnalan piha\, Rauman taidemuseo\, Kuninkaankatu 37\, Rauma\, 26100\, Suomi
ATTACH;FMTTYPE=image/png:https://raumafestivo.fi/wp-content/uploads/Etusivu1.png
END:VEVENT
BEGIN:VEVENT
DTSTART;TZID=Europe/Moscow:20230801T160000
DTEND;TZID=Europe/Moscow:20230801T160000
DTSTAMP:20260418T063448
CREATED:20230703T123536Z
LAST-MODIFIED:20230703T125231Z
UID:5381-1690905600-1690905600@raumafestivo.fi
SUMMARY:Kahvilakonsertti I: Pilkahduksia
DESCRIPTION:Lasse Jalava (1951–): Allegro & Sarabande op. 11b\nLudwig van Beethoven (1779–1827): Duo klarinetille ja sellolle WoO 27 nro. 1\nJean Sibelius (1865–1957): Canon (1889)\nFridrich Bruk (1937–): The Autumnal Shadows (1984)\nHeitor Villa-Lobos (1887–1959): The Jet Whistle W493: I Allegro non troppo\nKinan Azmeh (1976–): The Fence\, the Rooftop and The Distant Sea (2017): V Epilogue \nPinja Jokinen\, klarinetti\nAnna Helander\, sello \nVapaa pääsy \n  \nTurkulainen klarinetisti Pinja Jokinen opiskelee musiikkipedagogiaa Turun ammattikorkeakoulussa. Turun konservatoriolta hän valmistui vuonna 2021. Jokinen on esiintynyt Turun filharmonisen orkesterin solistina Nuoret solistit -konsertissa ja Laivaston soittokunnan solistina Nuori Puhallus -konserteissa. Jokinen keikkailee monipuolisesti erilaisissa kokoonpanoissa kamariyhtyeistä puhallin- ja sinfoniaorkesterihin. \nAnna Helander aloitti sellonsoiton Rauman musiikkiopistossa 10-vuotiaana. Hän on opiskellut useamman vuoden Turun konservatoriossa Jukka Perksalon oppilaana. Viime vuodet Anna on ollut Erkki Lahesmaan opissa Turun AMK:n Taideakatemiassa\, josta Anna valmistui keväällä 2023 musiikkipedagogiksi. Anna on osallistunut useille mestarikursseille niin Suomessa kuin ulkomailla ja on aktiivinen kamari- ja orkesterimuusikko.
URL:https://raumafestivo.fi/event/kahvilakonsertti-pilkahduksia/
LOCATION:Cafe Sali\, Kuninkaankatu 22\, Rauma\, 26100\, Suomi
ATTACH;FMTTYPE=image/png:https://raumafestivo.fi/wp-content/uploads/Etusivu1.png
END:VEVENT
BEGIN:VEVENT
DTSTART;TZID=Europe/Moscow:20230801T190000
DTEND;TZID=Europe/Moscow:20230801T190000
DTSTAMP:20260418T063448
CREATED:20230212T110055Z
LAST-MODIFIED:20230726T152253Z
UID:5183-1690916400-1690916400@raumafestivo.fi
SUMMARY:Merinäköala
DESCRIPTION:Rauma Festivon 40-vuotisjuhlien avajaiskonsertissa kuohuu meri! Raumalaiset kuorot yhdistävät voimansa festivaalin kutsusta  Hj. Nortamon säkeisiin sävellettyjen\, purjelaivojen romantiikkaa ja realismia pilke silmäkulmassa sanoittavien laulujen myötä. Raumalaisten Steinwaytä soittaa Wienissä vaikuttava suomalaisvirtuoosi Joonas Ahonen. Ravelin sävelkuva Pursi valtamerellä (Une barque sur l’océan) sarjasta Miroirs sekä saman säveltäjän loistelias pianotrio vievät ranskalaisille vesille. Amerikkalaisen avantgardistin John Cagen Water Music tuo lavalla myös ihan oikeaa vettä. \nOhjelma \nTimo Katilan sovituksia kuoroille ja soitinyhtyeelle Hj. Nortamon säkeisiin\nMaurice Ravel: Ondine sarjasta Gaspar de la nuit pianolle\nJohn Cage: Water music pianolle\, radiolle\, pilleille\, vesiastioille ja korttipakalle\nMaurice Ravel: Pianotrio (1914) pianolle\, viululle ja sellolle \nEsiintyjät\nJoonas Ahonen\, piano\nLaura Vikman\, viulu\nSiljamari Heikinheimo\, viulu\nHanna Hohti\, alttoviulu\nMarkus Hohti\, sello\nTarja Nyberg\, kontrabasso\nJonathan Leibovitz\, klarinetti\nMikaela Commondt\, kuoronjohtaja\nRaumalaisia kuoroja ja lauluyhtyeitä \nKonsertissa on väliaika. Kesto vahvistuu myöhemmin. \nLiput 25 € / 10 €\nLippujen hinnat: peruslippu / alennuslippu (opiskelijat\, lapset 7-16 v\, työttömät\, varusmiehet)\nOsta lippu
URL:https://raumafestivo.fi/event/merinakoala/
LOCATION:Rauma-sali\, Satamakatu 26\, Rauma\, Suomi
ATTACH;FMTTYPE=image/jpeg:https://raumafestivo.fi/wp-content/uploads/Joonas_Ahonen_0450_Juliana_Wesely-scaled-e1675786850192.jpg
END:VEVENT
END:VCALENDAR