BEGIN:VCALENDAR
VERSION:2.0
PRODID:-//Rauma Festivo 4.-8.8.2026 - ECPv6.15.20//NONSGML v1.0//EN
CALSCALE:GREGORIAN
METHOD:PUBLISH
X-ORIGINAL-URL:https://raumafestivo.fi
X-WR-CALDESC:Tapahtumat Rauma Festivo 4.-8.8.2026
REFRESH-INTERVAL;VALUE=DURATION:PT1H
X-Robots-Tag:noindex
X-PUBLISHED-TTL:PT1H
BEGIN:VTIMEZONE
TZID:Europe/Moscow
BEGIN:STANDARD
TZOFFSETFROM:+0300
TZOFFSETTO:+0300
TZNAME:MSK
DTSTART:20220101T000000
END:STANDARD
END:VTIMEZONE
BEGIN:VEVENT
DTSTART;TZID=Europe/Moscow:20230803T100000
DTEND;TZID=Europe/Moscow:20230803T170000
DTSTAMP:20260422T134226
CREATED:20230510T125849Z
LAST-MODIFIED:20230713T145232Z
UID:5294-1691056800-1691082000@raumafestivo.fi
SUMMARY:Carpe diem!
DESCRIPTION:Kamarimusiikki ja runous kohtaavat Carpe diem -päivässä kun Rauma Festivon taiteilijat innoittuvat Sirkka Turkan runoista ja päästävät luovuutensa valloilleen. \nTasatunnein soivat yllätyskonsertit ympäri vanhaa Raumaa kutsuvat tarttumaan hetkeen. Mitä kuullaan ja kuka on asialla – se selviää vasta paikan päällä. \nKlo 10 Vanha Raatihuone\, Kauppakatu 13\nKlo 11 Rajala\, Isomalminkatu 7\nKlo 12 Taari\, Itäkatu 1\nKlo 13 Kukola\, Pappilankatu 4\nKlo 14 Esi-Puandi\, Kiviniemenkatu 14\nKlo 15 Poselli\, Nortamonkatu 12 \nKlo 16.30 Kelluva saari\, Suvitie 4 (Merikylpylän saunojen puolelta esteetön pääsy rantaan.)\nLönnströmin taidemuseon nykytaidehanke\, Raimo Saarisen ympäristötaideteos Kelluva saari on suurikokoinen mereen sijoitettu veistos. \nVapaa pääsy! \n\nCarpe diem -kävely\nRauman oppaat ry:n kanssa yhteistyössä toteutettu kävelykierros vie Carpe diem -kohteesta toiseen. Matkalla kuullaan tietoa ja tarinoita Vanhasta Raumasta. Maksuttomaan kierrokseen voi osallistua liittymällä joukkoon silloin kun itselle sopii. \n \nLataa kartta
URL:https://raumafestivo.fi/event/carpe-diem-2/
LOCATION:Vanhan Rauman alue\, Rauma\, 26100
ATTACH;FMTTYPE=image/jpeg:https://raumafestivo.fi/wp-content/uploads/IMG_0404.jpg
END:VEVENT
BEGIN:VEVENT
DTSTART;TZID=Europe/Moscow:20230803T190000
DTEND;TZID=Europe/Moscow:20230803T210000
DTSTAMP:20260422T134226
CREATED:20230212T110007Z
LAST-MODIFIED:20230801T212831Z
UID:5193-1691089200-1691096400@raumafestivo.fi
SUMMARY:Rakkaus ja tyrannia
DESCRIPTION:Mukaansatempaavan hurmaava\, räjähtävän energinen ja supersuosittu – kuvaus pätee sekä Šostakovitšin Bach-vaikutteiseen pianokvintettoon sekä sen esittäjiin\, klassisen musiikiin titaaniin Ralf Gothóniin ja säteilyvoimaiseen Kamus-jousikvartettiin. Konsertin toinen puolisko yhdistää perheensä keskitysleirille menettäneen Mieczysław Weinbergin viidennen jousikvarteton ja Yhdysvaltoihin juutalaisvainoilta pelastautunee filosofi Hannah Arendtin kirjoituksia totalitarismista. \nOhjelma\nMieczysław Weinberg: Jousikvartetto nro 5 op 27 (1945)\nDmitri Šostakovitš: Pianokvintetto g-molli op. 57 (1940) \nEsiintyjät\nRalf Gothóni\, piano\nKamus: Terhi Paldanius & Jukka Untamala\, viulu\, Jussi Tuhkanen\, alttoviulu\, Petja Kainulainen\, sello\nKarri Miettinen\, lukija \nKesto: n. 1 h 40 minuuttia\, sisältää väliajan (tarkka kesto vahvistuu myöhemmin) \nLiput 30 € / 15 €\nLippujen hinnat: peruslippu / alennuslippu (opiskelijat\, lapset 7-16 v\, työttömät\, varusmiehet)\nOsta lippu
URL:https://raumafestivo.fi/event/rakkaus-ja-tyrannia/
LOCATION:Kulttuuritalo Poselli\, Nortamonkatu 12\, Rauma
ATTACH;FMTTYPE=image/jpeg:https://raumafestivo.fi/wp-content/uploads/Kamus_kuvaaja_Heikki_Tuuli-1-e1675788512312.jpeg
END:VEVENT
END:VCALENDAR