BEGIN:VCALENDAR
VERSION:2.0
PRODID:-//Rauma Festivo 4.-8.8.2026 - ECPv6.15.20//NONSGML v1.0//EN
CALSCALE:GREGORIAN
METHOD:PUBLISH
X-WR-CALNAME:Rauma Festivo 4.-8.8.2026
X-ORIGINAL-URL:https://raumafestivo.fi
X-WR-CALDESC:Tapahtumat Rauma Festivo 4.-8.8.2026
REFRESH-INTERVAL;VALUE=DURATION:PT1H
X-Robots-Tag:noindex
X-PUBLISHED-TTL:PT1H
BEGIN:VTIMEZONE
TZID:Europe/Moscow
BEGIN:STANDARD
TZOFFSETFROM:+0300
TZOFFSETTO:+0300
TZNAME:MSK
DTSTART:20220101T000000
END:STANDARD
END:VTIMEZONE
BEGIN:VEVENT
DTSTART;TZID=Europe/Moscow:20230804T120000
DTEND;TZID=Europe/Moscow:20230804T120000
DTSTAMP:20260422T133859
CREATED:20230729T203906Z
LAST-MODIFIED:20230729T204620Z
UID:5463-1691150400-1691150400@raumafestivo.fi
SUMMARY:Festivo-tori x Lintu ja Kala! Pelkonen\, Bergroth & Kalliola
DESCRIPTION:Rauma Festivon taiteilijat ja Rauman Taidemuseon Lintu ja Kala! -näyttelyn tekijät keskustelevat kulttuurista taidemuseon pihassa! Keskipäivän tuokioihin on vapaa pääsy. \nPerjantaina baritoni Aarne Pelkonen\, festivaalin vuoden 2023 taiteellinen partneri\, kirjailija Aina Bergroth ja kuvanveistäjä Jori Tapio Kalliola keskustelevat siitä\, miten kuvataide\, kirjallisuus ja musiikki ovat dialogissa ympäröivän maailman kanssa. \nYhteistyössä: Rauman Taidemuseo
URL:https://raumafestivo.fi/event/festivo-tori-perjantai/
LOCATION:Pinnalan piha\, Rauman taidemuseo\, Kuninkaankatu 37\, Rauma\, 26100\, Suomi
ATTACH;FMTTYPE=image/png:https://raumafestivo.fi/wp-content/uploads/Etusivu1.png
END:VEVENT
BEGIN:VEVENT
DTSTART;TZID=Europe/Moscow:20230804T140000
DTEND;TZID=Europe/Moscow:20230804T153000
DTSTAMP:20260422T133859
CREATED:20230212T110012Z
LAST-MODIFIED:20230801T212742Z
UID:5198-1691157600-1691163000@raumafestivo.fi
SUMMARY:Tanssiin kutsu
DESCRIPTION:Argentiinalaisen tangon pyörteet\, Sibeliuksen tulkinta puolalaisesta masurkasta vai viulistin ja nukketeatteritaiteilijan kohtaaminen yksinäisen tanssin äärellä? Rauma Festivon ennen kokemattomiin tanssiaisiin lisätään vielä pohjoismaisen kansanmusiikin poljentoa ja Charles Ivesin riemastuttava pianovirtuoosi-iloittelu. \nCafé Sali onnittelee 40-vuotiasta Rauma Festivoa tarjoamalla väliaikakahvit ja leivokset  konserttiyleisölle! \nOhjelma \nAstor Piazzolla: Le Grand Tango sellolle ja harmonikalle\nLera Auerbach: Lonely Suite op. 70 (Ballet for a lonely violinist)\nCharles Ives: Sonaatti pianolle nro 2 Concord\, osa 2 Hawthorne \n*** \nJean Sibelius: 5 Dances Champêtres op. 106 viululle ja pianolle\nPohjoismaisia kansansävelmiä kokoelmista Wood Works ja Last Leaf. Sovitukset jousikvartetille Danish String Quartet. \nEsiintyjät\nJoonas Ahonen\, piano\nSiljamari Heikinheimo\, viulu\nNiina Lindroos\, nukketeatteritaiteilija\nPetja Kainulainen\, sello\nHarri Kuusijärvi\, harmonikka\nKamus: Terhi Paldanius & Jukka Untamala\, viulu\, Jussi Tuhkanen\, alttoviulu\, Petja Kainulainen\, sello \nLiput 30 € / 15 €\, sis. väliaikakahvituksen\nLippujen hinnat: peruslippu / alennuslippu (opiskelijat\, lapset 7-16 v\, työttömät\, varusmiehet)\nOsta lippu
URL:https://raumafestivo.fi/event/tanssiin-kutsu/
LOCATION:Kulttuuritalo Poselli\, Nortamonkatu 12\, Rauma
ATTACH;FMTTYPE=image/jpeg:https://raumafestivo.fi/wp-content/uploads/Siljamari_Heikinheimo_viulu_kainalossa_1-kopio.jpg
END:VEVENT
BEGIN:VEVENT
DTSTART;TZID=Europe/Moscow:20230804T160000
DTEND;TZID=Europe/Moscow:20230804T164500
DTSTAMP:20260422T133859
CREATED:20230703T130531Z
LAST-MODIFIED:20230801T212646Z
UID:5392-1691164800-1691167500@raumafestivo.fi
SUMMARY:Kahvilakonsertti III: Satuja ja sydänsuruja
DESCRIPTION:Nadia Boulanger (1887–1979):\nSoleils couchants (1907) Paul Verlaine \nTure Rangström (1884–1947):\nFlickan under nymånen (Fem ballader\, nr. 2) (Bo Bergman)\nTörnet (1917) (J. L. Runeberg) \nHelvi Leiviskä (1902–1982):\nKaipaus op. 18 nro 1 (Lauri Pohjanpää)\nSydän op. 13 nro 1 (V. A. Koskenniemi) \nFrancis Poulenc (1899–1963):\nLa courte paille (FP 178) (Maurice Carême) \nNadia Boulanger (1887–1979):\nMon cœur (1906) (Albert Samain) \n  \nAino Rantanen\, sopraano\nKaisa Kaartinen\, piano \nVapaa pääsy \n  \nAino Rantanen ja Kaisa Kaartinen ovat tehneet musiikkia lied-duona syksystä 2022 alkaen. He aloittivat opintonsa Turun AMK:n Taideakatemiassa syksyllä 2021 ja ovat siitä lähtien opiskelleet kamarimusiikkia Eveliina Kytömäen johdolla. Duo työskentelee tinkimättömästi uppoutuen aina paitsi laulun runon ja sävelkielen yksityiskohtiin\, myös teoksen ja sen tekijöiden taustoihin. Heitä inspiroi tarinoiden ja tunteiden välittäminen\, ja ohjelmistoonsa he etsivät mielellään harvinaisempiakin helmiä. Tässä konsertissa satujen ja sydänsurujen maailmaan kuljetaan Nadia Boulangerin\, Helvi Leiviskän\, Francis Poulencin sekä Ture Rangströmin laulujen siivittämänä. \nAino Rantanen (s. 1997) on turkulainen sopraano\, joka on opiskellut laulua ammatillisesti vuodesta 2019 lähtien opettajinaan Jouni Kuorikoski ja Kaisu Helminen. Lauluopintojen ohella hän on lukenut sekä kasvatus- että musiikkitiedettä Turun yliopistossa. Oopperalavalla Aino on esiintynyt solistina Marko Aution Taisto-oopperan kantaesityksessä sekä Puccinin Suor Angelicassa. Vanhan musiikin saralla hänen tähänastiseen repertuaariinsa kuuluvat puolestaan Pergolesin Stabat Mater sekä Händelin Salve Regina. Lied-musiikissa Ainoa kiehtoo intensiivisyys – se\, miten pieneen kappaleeseen voikaan mahtua niin paljon tunnetta\, isoja kontrasteja ja hienostuneita nyansseja. \nKaisa Kaartinen (s. 2002) aloitti pianonsoiton seitsemänvuotiaana kotipaikkakunnallaan Perniössä. Ennen nykyisiä opintojaan Eveliina Kytömäen johdolla Kaisan opettajana toimi lähes kymmenen vuotta Mirva Pasma Salon Halikossa. Lisäksi Kaisa on kerännyt kokemusta ja oppia pianokilpailuista sekä mestarikursseilta ympäri Suomea. Tammikuussa 2023 Kaisa palkittiin Pianoaura-kilpailussa\, ja saman vuoden toukokuussa hän esitti Lisztin ensimmäisen pianokonserton Turun filharmonisen orkesterin solistina.
URL:https://raumafestivo.fi/event/kahvilakonsertti-satuja-ja-sydansuruja/
LOCATION:Cafe Sali\, Kuninkaankatu 22\, Rauma\, 26100\, Suomi
ATTACH;FMTTYPE=image/png:https://raumafestivo.fi/wp-content/uploads/Etusivu1.png
END:VEVENT
BEGIN:VEVENT
DTSTART;TZID=Europe/Moscow:20230804T190000
DTEND;TZID=Europe/Moscow:20230804T200000
DTSTAMP:20260422T133859
CREATED:20230113T101922Z
LAST-MODIFIED:20230508T184908Z
UID:5176-1691175600-1691179200@raumafestivo.fi
SUMMARY:Trapped Butterfly
DESCRIPTION:”Äiti\nminun täytyy tietää\nmitä tapahtui\nolihan se onnettomuus” \nRauma Festivon tilaama kamariooppera Trapped Butterfly vapauttaa Puccinin Madama Butterflyn!  Säveltäjä Sampo Kasurisen ja kirjailija\, dramaturgi Aina Bergrothin teos rakentuu Puccinin oopperassa itsensä surmanneen Butterflyn ja häneltä poisviedyn\, nykypäivässä elävän aikuisen poikansa väliselle dialogille.  Kansainvälisen läpimurron tehnyt sopraano Marjukka Tepponen laulaa uuden teoksen Äidin roolin. Pojan roolin laulaa Suomen Kansallisoopperassa keväällä 2022 debytoinut tenori Tuomas Miettola. Soitinyhtyeen muodostavat Kamus-jousikvartetti sekä Harri Kuusijärvi elektroakustisine harmonikkoineen. \nSampo Kasurinen & Aina Bergroth: Trapped Butterfly\nSiljamari Heikinheimo\, ohjaus\nMarjukka Tepponen\, sopraano\nTuomas Miettola\, tenori\nPyry Pakkala Petterberg\, valosuunnittelu\nAutuas Ukkonen\, pukusuunnittelu\nTomas Djupsjöbacka\, kapellimestari\nHarri Kuusijärvi\, elektroakustinen harmonikka\nKamus: Terhi Paldanius & Jukka Untamala\, viulu\, Jussi Tuhkanen\, alttoviulu\, Petja Kainulainen\, sello \nEsityskielet: italia\, englanti (tekstitykset suomeksi)\nKesto: n. 60’ (ei väliaikaa) \nLiput 35 € / 15 €\nLippujen hinnat: peruslippu / alennuslippu (opiskelijat\, lapset 7-16 v\, työttömät\, varusmiehet)\nOsta liput
URL:https://raumafestivo.fi/event/trapped-butterfly/
LOCATION:Rauma-sali\, Satamakatu 26\, Rauma\, Suomi
ATTACH;FMTTYPE=image/jpeg:https://raumafestivo.fi/wp-content/uploads/trapped_butterfly_1920x1005_variation-kopio.jpg
END:VEVENT
BEGIN:VEVENT
DTSTART;TZID=Europe/Moscow:20230804T210000
DTEND;TZID=Europe/Moscow:20230804T220000
DTSTAMP:20260422T133859
CREATED:20230212T110030Z
LAST-MODIFIED:20230801T212529Z
UID:5201-1691182800-1691186400@raumafestivo.fi
SUMMARY:Oma hetki
DESCRIPTION:Suomen kaunein kirkko tunnelmallisen Vanhan Rauman kainalossa on täydellinen paikka ottaa rauhallinen oma hetki juhlahumun keskellä. Markus Hohdin sello soi ikiaikaista lohtua Bachin sävelin. Caroline Shaw’n sävellykseen In manus tuas\, jossa soi 500 vuoden takainen Thomas Tallisin motetti. \nJ.S. Bach: Soolosellosarja nro 1 G-duuri BWV 1007\nCaroline Shaw: In manus tuas (Sinun käteesi) (2009)\nJ.S. Bach: Soolosellosarja nro 4 Es-duuri BWV 1010 \nMarkus Hohti\, sello \nLiput 10 € / 5 €\nLippujen hinnat: peruslippu / alennuslippu (opiskelijat\, lapset 7-16 v\, työttömät\, varusmiehet)\nOsta lippu
URL:https://raumafestivo.fi/event/oma-hetki/
LOCATION:Pyhän Ristin kirkko\, Luostarinkatu 1\, Rauma\, 26100\, Suomi
ATTACH;FMTTYPE=image/jpeg:https://raumafestivo.fi/wp-content/uploads/Markus_Hohti.jpeg
END:VEVENT
END:VCALENDAR