BEGIN:VCALENDAR
VERSION:2.0
PRODID:-//Rauma Festivo 4.-8.8.2026 - ECPv6.15.20//NONSGML v1.0//EN
CALSCALE:GREGORIAN
METHOD:PUBLISH
X-ORIGINAL-URL:https://raumafestivo.fi
X-WR-CALDESC:Tapahtumat Rauma Festivo 4.-8.8.2026
REFRESH-INTERVAL;VALUE=DURATION:PT1H
X-Robots-Tag:noindex
X-PUBLISHED-TTL:PT1H
BEGIN:VTIMEZONE
TZID:Europe/Moscow
BEGIN:STANDARD
TZOFFSETFROM:+0300
TZOFFSETTO:+0300
TZNAME:MSK
DTSTART:20220101T000000
END:STANDARD
END:VTIMEZONE
BEGIN:VEVENT
DTSTART;TZID=Europe/Moscow:20230805T120000
DTEND;TZID=Europe/Moscow:20230805T120000
DTSTAMP:20260422T133521
CREATED:20230729T204334Z
LAST-MODIFIED:20230729T204533Z
UID:5465-1691236800-1691236800@raumafestivo.fi
SUMMARY:Festivo-tori x Lintu ja Kala! Siljamari Heikinheimo & Hanna Hohti
DESCRIPTION:Rauma Festivon taiteilijat ja Rauman Taidemuseon Lintu ja Kala! -näyttelyn tekijät keskustelevat kulttuurista taidemuseon pihassa! Keskipäivän tuokioihin on vapaa pääsy. \nLauantaina Rauma Festivon taiteellinen johtaja Siljamari Heikinheimo ja alttoviulisti Hanna Hohti kertovat\, miltä tuntuu laajentaa luomistyö oman instrumentin ulkopuolelle. \nYhteistyössä: Rauman Taidemuseo
URL:https://raumafestivo.fi/event/festivo-tori-lauantai/
LOCATION:Pinnalan piha\, Rauman taidemuseo\, Kuninkaankatu 37\, Rauma\, 26100\, Suomi
ATTACH;FMTTYPE=image/png:https://raumafestivo.fi/wp-content/uploads/Etusivu1.png
END:VEVENT
BEGIN:VEVENT
DTSTART;TZID=Europe/Moscow:20230805T140000
DTEND;TZID=Europe/Moscow:20230805T150000
DTSTAMP:20260422T133521
CREATED:20230212T110031Z
LAST-MODIFIED:20230801T212448Z
UID:5204-1691244000-1691247600@raumafestivo.fi
SUMMARY:Rituaali
DESCRIPTION:Puinen\, kaunis ja soinnikas entinen rukoushuone Poselli on kuin soitin itsessään. Rituaali-konsertissa alttoviulisti Hanna Hohdin ja Anders Pohjolan meditatiivinen\, elektroniikkaa hyödyntävä tuoreista pohjoismaisista teoksista koostuva konsertti saa parikseen tanssitaiteilija Auri Aholan ja rumpali Jaska Lukkarisen villin kohtaamisen. Laajin teos\, Josefine Opsahlin Seidr viittaa nimellään kivikautisessa Norjassa harjoitettuun tulevaisuutta ennustavaan ja sitä muokkaavaan magiaan. Rituaalit ovat tärkeä osa monia juhlia! \nOhjelma\nAuri Ahola – Jaska Lukkarinen: Duo\nTine Surel Lange: Ginnungagap\nJesper Nordin: As if tied to a string\nPerttu Haapanen: intoNations\nJosefine Opsahl: Seidr \nEsiintyjät\nAuri Ahola\, tanssi\nJaska Lukkarinen\, lyömäsoittimet\nHanna Hohti\, alttoviulu\nAnders Pohjola\, elektroniikka \nKesto noin 70’ (ei väliaikaa) \nLiput 30 € / 15 €\nLippujen hinnat: peruslippu / alennuslippu (opiskelijat\, lapset 7-16 v\, työttömät\, varusmiehet)\nOsta lippu\n \nKonsertin yhteistyökumppanina TVO
URL:https://raumafestivo.fi/event/rituaali/
LOCATION:Kulttuuritalo Poselli\, Nortamonkatu 12\, Rauma
ATTACH;FMTTYPE=image/jpeg:https://raumafestivo.fi/wp-content/uploads/Hanna_Hohti_photo.TeemuMattsson-kopio.jpg
END:VEVENT
BEGIN:VEVENT
DTSTART;TZID=Europe/Moscow:20230805T160000
DTEND;TZID=Europe/Moscow:20230805T164500
DTSTAMP:20260422T133521
CREATED:20230805T130014Z
LAST-MODIFIED:20230816T192016Z
UID:5397-1691251200-1691253900@raumafestivo.fi
SUMMARY:Kahvilakonsertti IV
DESCRIPTION:George Gershwin (1898–1937):\nSummertime\nSov. David Sarkisyan \nAnton Arensky (1861–1906):\nPianotrio d-molli nro 1 op. 32\nI Allegro moderato\nII Scherzo (allegro molto) \nKlaus Badeld (1967–):\nPirates of the Carribean\nSov. David Sarkisyan \n  \nAleksandra Gribanova\, viulu\nDavid Sarkisyan\, alttoviulu\nElvin Soboleff\, piano \nVapaa pääsy \n  \nAleksandra Gribanova on syntynyt Almatyssa\, Kazakstanissa. Hän aloitti viulunsoiton seitsemänvuotiaana Sofia Zaturinskajan johdolla. Hän on valmistunut viulistiksi Moskovan taideakatemiasta. Aleksandralla on myös kielitieteilijän koulutus. Hän on työskennellyt tulkkina ja oppaana Moskovassa. Nykyään Aleksandra opiskelee musiikkipedagogiaa Turun ammattikorkeakoulun taideakatemiassa Alexander Vinnitskin johdolla. Hän esintyy säännöllisesti soolotaiteilijana\, kamariyhtyeen taiteilijana ja orkesterisoittajana. \nArmenialainen David Sarkisyan opiskeli Moskovassa A. G. Schnittke -instituutissa alttoviulunsoittoa lgor Boguslavsky johdolla. Moskovassa hän työskenteli televisio-orkestereissa sekä soitti oppilaitoksensa sinfoniaorkesterissa. Vuonna 2017 David muutti Suomeen\, ja on valmistunut Turun ammattikorkeakoulun taideakatemiasta vuonna 2022. Viimeisen kolmenvuoden aikana hän on soittanut Sigyn Sinfoniettassa ja Turun filharmonisessa orkesterissa sekä erilaisissa vhtveissã ja kamarikokoonpanoissa. \nElvin Soboleff on syntynyt Venäjällä. Hän aloitti klassisen musiikin opiskelun kuusivuotiaana Rostovissa. Neljätoistavuotiaana Elvin muutti Moskovaan opiskelemaan. Moskovan konservatoriossa hän opiskeli pianotaitelijan\, maailmankuulun pianistin Viktor Bunin johdolla. Elvin muutti Suomeen vuonna 2012 jatko-opiskeluja varten. Hän pääsi Turun konservatorioon Niklas Pokin oppilaaksi. Suomessa vimeisen kymmenen vuoden aikana hän on soittanut muutaman kerran Turun filharmonisen orkesterin ja Sigyn Sinfoniettan solistina. Elvin on valmistunut Turun ammattikorkeakoulun taideakatemiasta vuonna 2019 ja Sibelius-Akatemiasta vuonna 2023.
URL:https://raumafestivo.fi/event/kahvilakonsertti-iv/
LOCATION:Cafe Sali\, Kuninkaankatu 22\, Rauma\, 26100\, Suomi
ATTACH;FMTTYPE=image/png:https://raumafestivo.fi/wp-content/uploads/Etusivu1.png
END:VEVENT
BEGIN:VEVENT
DTSTART;TZID=Europe/Moscow:20230805T190000
DTEND;TZID=Europe/Moscow:20230805T210000
DTSTAMP:20260422T133521
CREATED:20230212T110015Z
LAST-MODIFIED:20230801T212307Z
UID:5207-1691262000-1691269200@raumafestivo.fi
SUMMARY:Kunniavieras
DESCRIPTION:Rauma Festivon 40-vuotisjuhlien kunniavieras on festivaalin perustaja ja ensimmäinen taiteellinen johtaja\, pianisti Ralf Gothóni. Hänen kanssaan ensimmäistä kertaa yhdessä esiintyy toinen Rauman oma poika\, baritoni Aarne Pelkonen. Schumannin Dichterliebe kuullaan myös Aila Gothonin suomenkielisinä käännöksinä näyttelijä Miiko Toiviaisen tulkintoina. Mozartin g-mollipianokvartetto kruunaa juhlan. \nOhjelma\nRobert Schumann: Dichterliebe op. 48 (1840)\nDichterlieben käännös: Aila Gothoni \n\nIm wunderschönen Monat Mai\nAus meinen Tränen sprießen\nDie Rose\, die Lilie\, die Taube\, die Sonne\nWenn ich in deine Augen seh’\nIch will meine Seele tauchen\nIm Rhein\, im heiligen Strome\nIch grolle nicht\nUnd wüßten’s die Blumen\, die kleinen\nDas ist ein Flöten und Geigen\nHör ich das Liedchen klingen\nEin Jüngling liebt ein Mädchen\nAm leuchtenden Sommermorgen\nIch hab’ im Traum geweinet\nAllnächtlich im Traume\nAus alten Märchen\nDie alten\, bösen Lieder\n\nW. A. Mozart: Pianokvartetto g-molli K 478 (1785) \nEsiintyjät\nRalf Gothóni\, piano\nAarne Pelkonen\, baritoni\nMiiko Toiviainen\, näyttelijä\nSiljamari Heikinheimo\, viulu\nHanna Hohti\, alttoviulu\nMarkus Hohti\, sello \nKesto noin 1 h 40 min\, sisältää väliajan. \nLiput 35 € / 15 €\nLippujen hinnat: peruslippu / alennuslippu (opiskelijat\, lapset 7-16 v\, työttömät\, varusmiehet)\nOsta lippu \nKonsertin yhteistyökumppanina Osuuskauppa Keula
URL:https://raumafestivo.fi/event/kunniavieras/
LOCATION:Rauma-sali\, Satamakatu 26\, Rauma\, Suomi
ATTACH;FMTTYPE=image/jpeg:https://raumafestivo.fi/wp-content/uploads/Ralf_Gothoni_web_kuva_Marko_Kauko-1.jpg
END:VEVENT
END:VCALENDAR