BEGIN:VCALENDAR
VERSION:2.0
PRODID:-//Rauma Festivo 4.-8.8.2026 - ECPv6.15.20//NONSGML v1.0//EN
CALSCALE:GREGORIAN
METHOD:PUBLISH
X-ORIGINAL-URL:https://raumafestivo.fi
X-WR-CALDESC:Tapahtumat Rauma Festivo 4.-8.8.2026
REFRESH-INTERVAL;VALUE=DURATION:PT1H
X-Robots-Tag:noindex
X-PUBLISHED-TTL:PT1H
BEGIN:VTIMEZONE
TZID:Europe/Moscow
BEGIN:STANDARD
TZOFFSETFROM:+0300
TZOFFSETTO:+0300
TZNAME:MSK
DTSTART:20230101T000000
END:STANDARD
END:VTIMEZONE
BEGIN:VEVENT
DTSTART;TZID=Europe/Moscow:20240802T180000
DTEND;TZID=Europe/Moscow:20240802T190000
DTSTAMP:20260419T233606
CREATED:20240710T144036Z
LAST-MODIFIED:20240729T101723Z
UID:5912-1722621600-1722625200@raumafestivo.fi
SUMMARY:Festivo-etkokonsertti: EVA-trio
DESCRIPTION:EVA-trio: Laulu on iloni! \n\n\n\n\nRuislinnun laulu korvissani\, tähkäpäiden päällä täysi kuu; kesä-yön on onni omanani\, kaskisavuun laaksot verhouu. \n\n\nSuomalaisten kauneimmat laulut Rajaton-yhtyeen Essi Wuorelan tähdittämän EVA-trion esittäminä Vanhan Rauman sydämessä kesätaivaan alla! \nEssi Wuorelan\, laulu\nAnna-Karin Korhonen\, kantele\nVesa Norilo\, sello \n\n\n\n\nLiput 15€\nHUOM! Rauma Festivon etkokonsertin liput ainoastaan Kuninkaankadun kumppaneiltamme: \n \n\n\n\n\n  \n  \n  \n  \n \n  \n  \n \n  \n  \n  \n  \n \n  \n  \n  \n  \n  \n  \nLaulaja Essi Wuorelan\, kantelisti Anna-Karin Korhosen ja sellisti Vesa Norilon muodostama EVA-trio aloitti yhteistyönsä 15 vuotta sitten. Trion esikoisalbumi Ensimmäiset seikkailut (2013) oli useita viikkoja Suomen virallisella albumilistalla ja sai myös Emma-ehdokkuuden. Toinen albumi Hauras jää julkaistiin vuonna 2020. EVA-trio on tehnyt kiertueet Saksassa ja Kanadassa sekä konsertoinut Suomessa useilla festivaaleilla.
URL:https://raumafestivo.fi/event/festivo-etkokonsertti-eva-trio/
LOCATION:Spärrin piha\, Kuninkaankatu 10\, Rauma\, 26100\, Suomi
ATTACH;FMTTYPE=image/jpeg:https://raumafestivo.fi/wp-content/uploads/Eva_tapahtumakuva_ei_tekstia.001.jpeg
END:VEVENT
END:VCALENDAR