BEGIN:VCALENDAR
VERSION:2.0
PRODID:-//Rauma Festivo 4.-8.8.2026 - ECPv6.15.20//NONSGML v1.0//EN
CALSCALE:GREGORIAN
METHOD:PUBLISH
X-ORIGINAL-URL:https://raumafestivo.fi
X-WR-CALDESC:Tapahtumat Rauma Festivo 4.-8.8.2026
REFRESH-INTERVAL;VALUE=DURATION:PT1H
X-Robots-Tag:noindex
X-PUBLISHED-TTL:PT1H
BEGIN:VTIMEZONE
TZID:Europe/Moscow
BEGIN:STANDARD
TZOFFSETFROM:+0300
TZOFFSETTO:+0300
TZNAME:MSK
DTSTART:20230101T000000
END:STANDARD
END:VTIMEZONE
BEGIN:VEVENT
DTSTART;TZID=Europe/Moscow:20240806T160000
DTEND;TZID=Europe/Moscow:20240806T160000
DTSTAMP:20260419T103002
CREATED:20240722T080718Z
LAST-MODIFIED:20240722T084115Z
UID:5930-1722960000-1722960000@raumafestivo.fi
SUMMARY:Rauma Festivo: Kahvilakonsertti I
DESCRIPTION:Välkkyvän veden ja tuoksuvan maan ympärille kasvava liedkonsertti avaa Rauma Festivon kahvilakonserttisarjan! Turun konservatoriossa opiskelevat laulaja Lotta Peltola ja pianisti Antti Kujari ovat toimineet lied-duona kolme vuotta\, ja he tuovat ohjelmistossaan esiin 1900-luvun alussa marginaaliin jääneitä lauluja. \nKonserttiin on vapaa pääsy. \nOhjelma\nJean Sibelius (1865–1957): Näcken op. 57 nro 8 (E. Josephson)\nJohannes Brahms (1833–1897): Meerfahrt op. 96 nro 4 (H. Heine)\nLili Boulanger (1893–1918): Le retour (G. Delaquys)\nGösta Nystroem (1890–1966): Ute i skären (E. Lindqvist)\nMaurice Karkoff (1927–2013): Skogssjön (E. Södergran)\nRebecca Clarke (1886–1979): Lethe (E. St. Vincent Millay)\nRobert Schumann (1810–1856): In der fremde; Frühlingsnacht (J. von Eichendorff)\nMax Reger (1873–1916): Es schläft ein stiller Garten op. 98 nro 4\n(C. Hauptmann)\nAntti Kujari (2002–): Kailas-lauluja op. 2 (U. Kailas)\nTure Rangström (1884–1947): En gammal dansrytm (B. Bergman)
URL:https://raumafestivo.fi/event/rauma-festivo-kahvilakonsertti-i/
LOCATION:Cafe Sali\, Kuninkaankatu 22\, Rauma\, 26100\, Suomi
ATTACH;FMTTYPE=image/jpeg:https://raumafestivo.fi/wp-content/uploads/Rauma-Festivo-Ilme-2024-F-A3-vaaka-valkoinen-scaled.jpg
END:VEVENT
BEGIN:VEVENT
DTSTART;TZID=Europe/Moscow:20240806T190000
DTEND;TZID=Europe/Moscow:20240806T201500
DTSTAMP:20260419T103002
CREATED:20240407T160111Z
LAST-MODIFIED:20240407T160111Z
UID:5773-1722970800-1722975300@raumafestivo.fi
SUMMARY:Panu Savolainen & JPP
DESCRIPTION:Rauma Festivon Vuodenaikamme -teemaisen festivaalin avajaiskonsertti on soinnin ja svengin juhla! Ilmaisuvoimainen vibrafonisti Panu Savolainen yhdistää voimansa maamme legendaarisimman kansanmusiikkiyhtyeen\, vuonna 1982 perustetun JPP:n kanssa. Unescon aineettoman kulttuuriperinnön luetteloon vuonna 2021 nostettu vuosisatainen kaustislainen viulunsoittoperinne ja lennokas jazzimprovisointi kohtaavat Unescon maailmanperintökohteen Vanhan Rauman sydämessä\, fransiskaaniveljien yli 500 vuotta sitten rakentamassa Pyhän Ristin kirkossa. \nPanu Savolaisen ja JPP:n jäsenten sävellyksistä sekä jazzlainakappaleista koostuvan konsertin tunnelmat vaihtelevat aina kaustislaisesta pelimanni-iloittelusta haikean koskettaviin balladeihin\, nostattaen taatusti kuulijoiden suupielet hymyyn pitkäksi aikaa. \nKesto 75 minuuttia\, ei väliaikaa. \nEsiintyjät\nPanu Savolainen\, vibrafoni\nMauno Järvelä\, viulu\nArto Järvelä\, viulu\nTommi Pyykönen\, viulu\nMatti Mäkelä\, viulu\nTimo Myllykangas\, basso\nTimo Alakotila\, harmoni \nLiput 25 € / 15 €\nOsta lippu
URL:https://raumafestivo.fi/event/panu-savolainen-jpp/
LOCATION:Pyhän Ristin kirkko\, Luostarinkatu 1\, Rauma\, 26100\, Suomi
ATTACH;FMTTYPE=image/png:https://raumafestivo.fi/wp-content/uploads/Ti_PANU_JPP.png
END:VEVENT
END:VCALENDAR