BEGIN:VCALENDAR
VERSION:2.0
PRODID:-//Rauma Festivo 4.-8.8.2026 - ECPv6.15.20//NONSGML v1.0//EN
CALSCALE:GREGORIAN
METHOD:PUBLISH
X-WR-CALNAME:Rauma Festivo 4.-8.8.2026
X-ORIGINAL-URL:https://raumafestivo.fi
X-WR-CALDESC:Tapahtumat Rauma Festivo 4.-8.8.2026
REFRESH-INTERVAL;VALUE=DURATION:PT1H
X-Robots-Tag:noindex
X-PUBLISHED-TTL:PT1H
BEGIN:VTIMEZONE
TZID:Europe/Moscow
BEGIN:STANDARD
TZOFFSETFROM:+0300
TZOFFSETTO:+0300
TZNAME:MSK
DTSTART:20230101T000000
END:STANDARD
END:VTIMEZONE
BEGIN:VEVENT
DTSTART;TZID=Europe/Moscow:20240811T180000
DTEND;TZID=Europe/Moscow:20240811T180000
DTSTAMP:20260420T000313
CREATED:20240731T082456Z
LAST-MODIFIED:20240731T083317Z
UID:5954-1723399200-1723399200@raumafestivo.fi
SUMMARY:Pillit soimaan
DESCRIPTION:Rauman seurakunnan ja Rauma Festivon konsertti festivaaliviikon päätteeksi kutsuu kuulemaan vuodenaikojen inspiroimaa musiikkia – satojen pillien voimin! Panhuilun ja urkujen kohtaaminen tapahtuu Vanhan Rauman sydämessä\, fransiskaaniveljien 1500-luvulla rakentamassa Rauman Pyhän Ristin kirkossa.  \nEsiintyjät:\nStefan Stanciu\, panhuilu\nSaara Kukko\, urut \nVapaa pääsy
URL:https://raumafestivo.fi/event/pillit-soimaan/
LOCATION:Pyhän Ristin kirkko\, Luostarinkatu 1\, Rauma\, 26100\, Suomi
ATTACH;FMTTYPE=image/jpeg:https://raumafestivo.fi/wp-content/uploads/Rauma-Festivo-Ilme-2024-F-A3-vaaka-valkoinen-scaled.jpg
END:VEVENT
END:VCALENDAR