BEGIN:VCALENDAR
VERSION:2.0
PRODID:-//Rauma Festivo 4.-8.8.2026 - ECPv6.15.20//NONSGML v1.0//EN
CALSCALE:GREGORIAN
METHOD:PUBLISH
X-WR-CALNAME:Rauma Festivo 4.-8.8.2026
X-ORIGINAL-URL:https://raumafestivo.fi
X-WR-CALDESC:Tapahtumat Rauma Festivo 4.-8.8.2026
REFRESH-INTERVAL;VALUE=DURATION:PT1H
X-Robots-Tag:noindex
X-PUBLISHED-TTL:PT1H
BEGIN:VTIMEZONE
TZID:Europe/Moscow
BEGIN:STANDARD
TZOFFSETFROM:+0300
TZOFFSETTO:+0300
TZNAME:MSK
DTSTART:20230101T000000
END:STANDARD
END:VTIMEZONE
BEGIN:VEVENT
DTSTART;TZID=Europe/Moscow:20240802T180000
DTEND;TZID=Europe/Moscow:20240802T190000
DTSTAMP:20260419T102959
CREATED:20240710T144036Z
LAST-MODIFIED:20240729T101723Z
UID:5912-1722621600-1722625200@raumafestivo.fi
SUMMARY:Festivo-etkokonsertti: EVA-trio
DESCRIPTION:EVA-trio: Laulu on iloni! \n\n\n\n\nRuislinnun laulu korvissani\, tähkäpäiden päällä täysi kuu; kesä-yön on onni omanani\, kaskisavuun laaksot verhouu. \n\n\nSuomalaisten kauneimmat laulut Rajaton-yhtyeen Essi Wuorelan tähdittämän EVA-trion esittäminä Vanhan Rauman sydämessä kesätaivaan alla! \nEssi Wuorelan\, laulu\nAnna-Karin Korhonen\, kantele\nVesa Norilo\, sello \n\n\n\n\nLiput 15€\nHUOM! Rauma Festivon etkokonsertin liput ainoastaan Kuninkaankadun kumppaneiltamme: \n \n\n\n\n\n  \n  \n  \n  \n \n  \n  \n \n  \n  \n  \n  \n \n  \n  \n  \n  \n  \n  \nLaulaja Essi Wuorelan\, kantelisti Anna-Karin Korhosen ja sellisti Vesa Norilon muodostama EVA-trio aloitti yhteistyönsä 15 vuotta sitten. Trion esikoisalbumi Ensimmäiset seikkailut (2013) oli useita viikkoja Suomen virallisella albumilistalla ja sai myös Emma-ehdokkuuden. Toinen albumi Hauras jää julkaistiin vuonna 2020. EVA-trio on tehnyt kiertueet Saksassa ja Kanadassa sekä konsertoinut Suomessa useilla festivaaleilla.
URL:https://raumafestivo.fi/event/festivo-etkokonsertti-eva-trio/
LOCATION:Spärrin piha\, Kuninkaankatu 10\, Rauma\, 26100\, Suomi
ATTACH;FMTTYPE=image/jpeg:https://raumafestivo.fi/wp-content/uploads/Eva_tapahtumakuva_ei_tekstia.001.jpeg
END:VEVENT
BEGIN:VEVENT
DTSTART;TZID=Europe/Moscow:20240805T190000
DTEND;TZID=Europe/Moscow:20240805T190000
DTSTAMP:20260419T102959
CREATED:20240730T101811Z
LAST-MODIFIED:20240730T101811Z
UID:5950-1722884400-1722884400@raumafestivo.fi
SUMMARY:Festivo-etkot
DESCRIPTION:Perinteisillä Festivo-etkoilla Vanhan Rauman sydämessä tutustutaan viikon taiteilijoihin\, kuullaan yllätysesityksiä ja nautitaan yhteistyökumppanimme tarjoamia virvokkeita! Sään salliessa sisäpihalla\, sateen sattuessa Silmäoptikot Palmun tiloissa. \nEtkoilla myynnissä liput kaikkiin viikon konsertteihin ja myös käsiohjelma. \nVapaa pääsy \nFestivo-etkojen kumppanina Silmäoptikot Palmu
URL:https://raumafestivo.fi/event/festivo-etkot2024/
LOCATION:Spärrin piha\, Kuninkaankatu 10\, Rauma\, 26100\, Suomi
ATTACH;FMTTYPE=image/jpeg:https://raumafestivo.fi/wp-content/uploads/Carpe-diem-kavely-Rauman-oppaat-ryn-kanssa-yhteistyossa-toteutettu-kavelykierros-vie-Carpe-diem-kohteesta-toiseen.-Matkalla-kuullaan-tietoa-ja-tarinoita-Vanhasta-Raumasta.-Maksuttomaan-kierrokse.jpg
END:VEVENT
BEGIN:VEVENT
DTSTART;TZID=Europe/Moscow:20240806T160000
DTEND;TZID=Europe/Moscow:20240806T160000
DTSTAMP:20260419T102959
CREATED:20240722T080718Z
LAST-MODIFIED:20240722T084115Z
UID:5930-1722960000-1722960000@raumafestivo.fi
SUMMARY:Rauma Festivo: Kahvilakonsertti I
DESCRIPTION:Välkkyvän veden ja tuoksuvan maan ympärille kasvava liedkonsertti avaa Rauma Festivon kahvilakonserttisarjan! Turun konservatoriossa opiskelevat laulaja Lotta Peltola ja pianisti Antti Kujari ovat toimineet lied-duona kolme vuotta\, ja he tuovat ohjelmistossaan esiin 1900-luvun alussa marginaaliin jääneitä lauluja. \nKonserttiin on vapaa pääsy. \nOhjelma\nJean Sibelius (1865–1957): Näcken op. 57 nro 8 (E. Josephson)\nJohannes Brahms (1833–1897): Meerfahrt op. 96 nro 4 (H. Heine)\nLili Boulanger (1893–1918): Le retour (G. Delaquys)\nGösta Nystroem (1890–1966): Ute i skären (E. Lindqvist)\nMaurice Karkoff (1927–2013): Skogssjön (E. Södergran)\nRebecca Clarke (1886–1979): Lethe (E. St. Vincent Millay)\nRobert Schumann (1810–1856): In der fremde; Frühlingsnacht (J. von Eichendorff)\nMax Reger (1873–1916): Es schläft ein stiller Garten op. 98 nro 4\n(C. Hauptmann)\nAntti Kujari (2002–): Kailas-lauluja op. 2 (U. Kailas)\nTure Rangström (1884–1947): En gammal dansrytm (B. Bergman)
URL:https://raumafestivo.fi/event/rauma-festivo-kahvilakonsertti-i/
LOCATION:Cafe Sali\, Kuninkaankatu 22\, Rauma\, 26100\, Suomi
ATTACH;FMTTYPE=image/jpeg:https://raumafestivo.fi/wp-content/uploads/Rauma-Festivo-Ilme-2024-F-A3-vaaka-valkoinen-scaled.jpg
END:VEVENT
BEGIN:VEVENT
DTSTART;TZID=Europe/Moscow:20240806T190000
DTEND;TZID=Europe/Moscow:20240806T201500
DTSTAMP:20260419T102959
CREATED:20240407T160111Z
LAST-MODIFIED:20240407T160111Z
UID:5773-1722970800-1722975300@raumafestivo.fi
SUMMARY:Panu Savolainen & JPP
DESCRIPTION:Rauma Festivon Vuodenaikamme -teemaisen festivaalin avajaiskonsertti on soinnin ja svengin juhla! Ilmaisuvoimainen vibrafonisti Panu Savolainen yhdistää voimansa maamme legendaarisimman kansanmusiikkiyhtyeen\, vuonna 1982 perustetun JPP:n kanssa. Unescon aineettoman kulttuuriperinnön luetteloon vuonna 2021 nostettu vuosisatainen kaustislainen viulunsoittoperinne ja lennokas jazzimprovisointi kohtaavat Unescon maailmanperintökohteen Vanhan Rauman sydämessä\, fransiskaaniveljien yli 500 vuotta sitten rakentamassa Pyhän Ristin kirkossa. \nPanu Savolaisen ja JPP:n jäsenten sävellyksistä sekä jazzlainakappaleista koostuvan konsertin tunnelmat vaihtelevat aina kaustislaisesta pelimanni-iloittelusta haikean koskettaviin balladeihin\, nostattaen taatusti kuulijoiden suupielet hymyyn pitkäksi aikaa. \nKesto 75 minuuttia\, ei väliaikaa. \nEsiintyjät\nPanu Savolainen\, vibrafoni\nMauno Järvelä\, viulu\nArto Järvelä\, viulu\nTommi Pyykönen\, viulu\nMatti Mäkelä\, viulu\nTimo Myllykangas\, basso\nTimo Alakotila\, harmoni \nLiput 25 € / 15 €\nOsta lippu
URL:https://raumafestivo.fi/event/panu-savolainen-jpp/
LOCATION:Pyhän Ristin kirkko\, Luostarinkatu 1\, Rauma\, 26100\, Suomi
ATTACH;FMTTYPE=image/png:https://raumafestivo.fi/wp-content/uploads/Ti_PANU_JPP.png
END:VEVENT
BEGIN:VEVENT
DTSTART;TZID=Europe/Moscow:20240807T140000
DTEND;TZID=Europe/Moscow:20240807T140000
DTSTAMP:20260419T102959
CREATED:20240407T161058Z
LAST-MODIFIED:20240525T220532Z
UID:5776-1723039200-1723039200@raumafestivo.fi
SUMMARY:Tie lumen peitossa
DESCRIPTION:Hangella säihkyy timantteja! Sellisti Senja Rummukainen tulkitsee virtuoosisen\, ihmisten välistä luottamusta juhlivan Outi Tarkiaisen sooloteoksen\, ja viulisti Tami Pohjola houkuttelee triangelin kanssaan duettoon Teppo Hauta-ahon leikkisän Kaamoskapriisin pariin. Latvialaisen Pēteris Vasksin Castillo Interior viululle ja sellolle on saanut innoituksensa 1500-luvulla vaikuttaneen mystikon ja nunnan Ávilan Teresan Sisäinen linna -teoksesta\, jossa uskonkysymyksiä pohdiskelevaa sielua verrataan timantin muotoiseen linnaan. Siellä sisäkkäiset seitsemän huonetta kirkastuvat kohti keskuksen kaiken puhdistavaa valoa ulkopuolen pimeyden jäädessä taakse. Pohjoista valoa loistaa tanssitaiteilija Auri Ahola\, joka luo lyömäsoittaja Jaska Lukkarisen kanssa uuden teoksen juuri tähän konserttiin. \nPēteris Vasks (1946-): Castillo Interior viululle ja sellolle\nOuti Tarkiainen (1985-): Sanasi\, kiveen uponneet sellolle (2011)\nFranz Schubert (1797–1828): Gute Nacht Winterreise-sarjasta\, sovitus jousikvartetille\nTeppo Hauta-aho (1941–2021): Kaamoskapriisi – Duettino viululle ja triangelille (1997)\nMatthew Whittall (1975-): Bright Ferment – Jousikvartetto nro 2\nAuri Ahola & Jaska Lukkarinen: Duo \nEsiintyjät:\nSiljamari Heikinheimo & Tami Pohjola\, viulu\nCharlotta Westerback\, alttoviulu\nSenja Rummukainen\, sello\nAuri Ahola\, tanssitaiteilija\nJaska Lukkarinen\, lyömäsoittimet \nLiput: 25 € / 15 €\nOsta lippu
URL:https://raumafestivo.fi/event/tie-lumen-peitossa/
LOCATION:Kulttuuritalo Poselli\, Nortamonkatu 12\, Rauma
ATTACH;FMTTYPE=image/png:https://raumafestivo.fi/wp-content/uploads/Ke_AURI-e1712506205586.png
END:VEVENT
BEGIN:VEVENT
DTSTART;TZID=Europe/Moscow:20240807T160000
DTEND;TZID=Europe/Moscow:20240807T160000
DTSTAMP:20260419T102959
CREATED:20240722T081016Z
LAST-MODIFIED:20240722T084045Z
UID:5932-1723046400-1723046400@raumafestivo.fi
SUMMARY:Rauma Festivo: Kahvilakonsertti II
DESCRIPTION:Maailman luultavasti rakastetuin viulusonaatti – tule ottamaan selvää\, oletko samaa mieltä César Franckin suosikkiteosta ylistävien kanssa! Vertaansa vailla olevat melodiat seuraavat toisiaan\, ja lisäksi viulisti Aleksandra Gribanova ja pianisti Josefin Kavén tarjoilevat Franckin maannaisen Cécile Chaminaden viehättävän Bohémiennen. \nKonserttiin on vapaa pääsy. \nOhjelma\nCésar Franck (1822–1890): Sonaatti viululle ja pianolle A-duuri (1886)\nCécile Chaminade (1857–1944): Bohémienne sarjasta 3 Morceaux op. 31
URL:https://raumafestivo.fi/event/rauma-festivo-kahvilakonsertti-ii/
LOCATION:Cafe Sali\, Kuninkaankatu 22\, Rauma\, 26100\, Suomi
ATTACH;FMTTYPE=image/jpeg:https://raumafestivo.fi/wp-content/uploads/Rauma-Festivo-Ilme-2024-F-A3-vaaka-valkoinen-scaled.jpg
END:VEVENT
BEGIN:VEVENT
DTSTART;TZID=Europe/Moscow:20240807T190000
DTEND;TZID=Europe/Moscow:20240807T203000
DTSTAMP:20260419T102959
CREATED:20240407T162201Z
LAST-MODIFIED:20240804T074216Z
UID:5779-1723057200-1723062600@raumafestivo.fi
SUMMARY:Hymyilevä värisevä kesä
DESCRIPTION:Elämän kauneimmat muistot kylpevät usein kesän valossa. Cecilia Damströmin pianotriossa kesän muistot ovat nuorten hauskanpitoa\, oivaltavia tuokiokuvia ja kutkuttavia maisemia. Outi Tarkiainen tarkastelee elämän vuodenaikojen mukana kulkevaa rakkauden voimaa aviomiehelleen Lauri Salliselle omistamassa klarinettikvintetossa: ”Nuori rakkaus pyhitetään juhlallisesti\, mutta viimeistään ruuhkavuosina monet liitot kompastuvat arjen kuorman alle. Ne\, jotka selviävät syyskesän myrskyistä\, joutuvat asemoimaan roolinsa uudelleen kodin hiljetessä. Sydäntalven päivinä alkaa hahmottua elämän rajallisuus.” Tuota rajallisuutta – ja myös Hermann Hessen runoksi sanottamaa\, sulokkuuden ja aistillisuuden huumaksi puhkeavaa kevättä – kuvaavat Richard Straussin viimeiset laulut\, joihin päättyi saksalaisen romantiikan kukoistuskausi. \nCecilia Damström (1988-): Summer Memories op. 42  pianotriolle (2015)\nOuti Tarkiainen (1985-): The Seasons of Love (2023)\nRichard Strauss (1864-1949): Vier letzte Lieder \nKesto 90 minuuttia. Konsertissa on väliaika. \nEsiintyjät:\nMari Palo\, sopraano\nSalla Pynssi\, piano\nLauri Sallinen\, klarinetti\nTami Pohjola & Petteri Iivonen\, viulu\nCharlotta Westerback\, alttoviulu\nSenja Rummukainen\, sello \nLiput: 30 € / 15 €\nOsta lippu \n  \n 
URL:https://raumafestivo.fi/event/hymyileva-variseva-kesa/
LOCATION:Kulttuuritalo Poselli\, Nortamonkatu 12\, Rauma
ATTACH;FMTTYPE=image/png:https://raumafestivo.fi/wp-content/uploads/Ke_LAURI-e1712506896834.png
END:VEVENT
BEGIN:VEVENT
DTSTART;TZID=Europe/Moscow:20240808T100000
DTEND;TZID=Europe/Moscow:20240808T153000
DTSTAMP:20260419T102959
CREATED:20240407T162906Z
LAST-MODIFIED:20240729T103655Z
UID:5782-1723111200-1723131000@raumafestivo.fi
SUMMARY:Carpe diem -yllätyskonsertit
DESCRIPTION:Tasatunnein soivat yllätyskonsertit ympäri vanhaa Raumaa kutsuvat tarttumaan hetkeen. Mitä kuullaan ja kuka on asialla – se selviää vasta paikan päällä. \nVapaa pääsy \nklo 10 Sipola\, Vanhankirkonkatu 20\nklo 11 Aulén\, Kuninkaankatu 36\nklo 12 Poselli\, Nortamonkatu 12\nklo 13 Anttla / Vähämalminkatu 7\nklo 14 Lella\, Isopoikkikatu 24\nklo 15 Sepän talo\, Alfredinkatu 3 \nCarpe diem -kävely\nRauman oppaat ry:n kanssa yhteistyössä toteutettu kävelykierros vie Carpe diem -kohteesta toiseen. Matkalla kuullaan tietoa ja tarinoita Vanhasta Raumasta. Maksuttomaan kierrokseen voi osallistua liittymällä joukkoon silloin kun itselle sopii. \n \n 
URL:https://raumafestivo.fi/event/carpe-diem-yllatyskonsertit/
LOCATION:Vanhan Rauman alue\, Rauma\, 26100
ATTACH;FMTTYPE=image/png:https://raumafestivo.fi/wp-content/uploads/TO_CarpeDiem-e1712507324285.png
END:VEVENT
BEGIN:VEVENT
DTSTART;TZID=Europe/Moscow:20240808T190000
DTEND;TZID=Europe/Moscow:20240808T210000
DTSTAMP:20260419T102959
CREATED:20240407T163730Z
LAST-MODIFIED:20240407T163730Z
UID:5785-1723143600-1723150800@raumafestivo.fi
SUMMARY:Elämäni kevät - Jukka Nykänen!
DESCRIPTION:Kun genrerajojen yli riemuiten loikkiva\, säveltävä ja sovittava taituripianisti Jukka Nykänen saa festivaalin taiteelliselta johtajalta luvan soittaa yhtenä iltana kaiken mitä haluaa\, seuraa sellainen elämän kevät\, että väliin jättämistä ei suositella! Sopraano Mari Palo ja laulaja-näyttelijä Emilia Nyman sekä viulisti Siljamari Heikinheimo sekä sellisti Senja Rummukainen ovat mukana luomassa iltaa\, joka ulottuu Merikannon Kesäillan valssista Les Misèrablesin tunnelmiin ja Schumannin liedeistä Piazzollan tangorytmeihin. Maestro Nykänen myös juontaa konsertin. \nGabriel Fauré: Allegro molto sonaatista viululle ja pianolle Nro.1 A-duuri op. 13\nAntonio Vivaldi\, sov. Jukka Nykänen: Vuodenajat\nRobert Schumann: Widmung; Der Nussbaum; Die Lotosblume\nOskar Merikanto\, sov. Jukka Nykänen: Kesäillan valssi pianotriolle\nClaude-Michel Schönberg: I Dreamed A Dream; On my Own\, musikaalista Les Misèrables\nGiacomo Puccini\, sov. Jukka Nykänen: La Bohème -sikermä pianotriolle\nJukka Nykänen (sanat Eppu Nuotio): Aina uudelleen; Halusin olla vapaa; Hulluja vuosia\nAstor Piazzolla\, sov. Jukka Nykänen: Piazzolla-sikermä \nKonsertin kesto 2 tuntia\, sisältää väliajan. \nEsiintyjät:\nJukka Nykänen (piano ja juonto)\nMari Palo\, Emilia Nyman (laulu)\nSiljamari Heikinheimo (viulu)\nSenja Rummukainen (sello)\nFestivo-kööri \nLiput: 35 € / 20 €\nOsta lippu
URL:https://raumafestivo.fi/event/elamani-kevat-jukka-nykanen/
LOCATION:Rauma-sali\, Satamakatu 26\, Rauma\, Suomi
ATTACH;FMTTYPE=image/png:https://raumafestivo.fi/wp-content/uploads/To_JUKKA-e1712507826795.png
END:VEVENT
BEGIN:VEVENT
DTSTART;TZID=Europe/Moscow:20240809T140000
DTEND;TZID=Europe/Moscow:20240809T151000
DTSTAMP:20260419T102959
CREATED:20240407T165119Z
LAST-MODIFIED:20240407T165119Z
UID:5788-1723212000-1723216200@raumafestivo.fi
SUMMARY:Syksyn laulu
DESCRIPTION:Mi ikävyys / mi hämäryys sieluni ympär / kuin syksy-iltanen autiol maall? Juhani Koiviston käsikirjoittamassa Syksyn laulussa kohtaavat kolme valovoimaista taiteilijaa: sopraano Mari Palo\, näyttelijä Miiko Toiviainen ja pianisti Jukka Nykänen. Syksyä lauluissaan kuvaavat niin Madetoja\, Kuula\, Sibelius kuin Juice Leskinenkin; mukana ovat myös itseoikeutetusti Syyslaulu sekä Kuolleet lehdet. Musiikkiin limittyvät Aleksis Kiven\, Eino Leinon\, Saima Harmajan ja J. L. Runebergin syysrunot kulkevat haikeuden ja toivon täyttämiä polkuja. \nPunertaa marjat pihlajain / kuin verta niissä ois / on kurkiaurat lentäneet / jo yli pääni pois. \nMadetoja – Rellstab – Schubert – Kivi – Leskinen – Prevert – Virmajoki – Jauhiainen – Harmaja – Kuula – Runeberg – Sibelius – Kajanus – Tšaikovski – Leino – Tauro – Onerva \nKesto 70 minuuttia\, ei väliaikaa \nEsiintyjät:\nMari Palo\, sopraano\nJukka Nykänen\, piano\nMiiko Toiviainen\, lausunta \nLiput: 30 € / 15 €\nOsta lippu \n  \n  \n 
URL:https://raumafestivo.fi/event/syksyn-laulu/
LOCATION:Kulttuuritalo Poselli\, Nortamonkatu 12\, Rauma
ATTACH;FMTTYPE=image/png:https://raumafestivo.fi/wp-content/uploads/Pe_MARI-e1712508636753.png
END:VEVENT
BEGIN:VEVENT
DTSTART;TZID=Europe/Moscow:20240809T160000
DTEND;TZID=Europe/Moscow:20240809T160000
DTSTAMP:20260419T102959
CREATED:20240722T081258Z
LAST-MODIFIED:20240722T083621Z
UID:5934-1723219200-1723219200@raumafestivo.fi
SUMMARY:Rauma Festivo: Kahvilakonsertti III
DESCRIPTION:Prokofjevin komea sonaatti sellolle ja pianolle laulaa ylväästi ja hupailee tarttuvasti. Sellisti Rufus Långbacka ja pianisti Kaisa Kaartinen ovat valinneet mukaan myös norjalaisen Edvard Griegin musiikkia. \nKonserttiin on vapaa pääsy. \nOhjelma\nSergei Prokofiev: Sellosonaatti C-duuri op. 119 (1949)\, osat I ja II\nEdvard Grieg: Andante molto tranquillo op. 36
URL:https://raumafestivo.fi/event/rauma-festivo-kahvilakonsertti-iii/
LOCATION:Cafe Sali\, Kuninkaankatu 22\, Rauma\, 26100\, Suomi
ATTACH;FMTTYPE=image/jpeg:https://raumafestivo.fi/wp-content/uploads/Rauma-Festivo-Ilme-2024-F-A3-vaaka-valkoinen-scaled.jpg
END:VEVENT
BEGIN:VEVENT
DTSTART;TZID=Europe/Moscow:20240809T190000
DTEND;TZID=Europe/Moscow:20240809T190000
DTSTAMP:20260419T102959
CREATED:20240407T171010Z
LAST-MODIFIED:20240710T124304Z
UID:5791-1723230000-1723230000@raumafestivo.fi
SUMMARY:Vivaldin vuodenajat
DESCRIPTION:Antonio Vivaldin kolmesataa vuotta sitten virtuoosisin ottein maalaamat värikkäät pysäytyskuvat italialaisista vuodenajoista ovat tunnetuimpia korvamatoja viulukonserttojen joukossa. Tässä konsertissa ne saavat uudet kehykset\, kun niin ikään jaettuja vuodenaikakokemuksia juhlivat meidän aikamme laulut kuullaan limittäin Vivaldin konserttojen kanssa Jukka Nylundin tätä kokonaisuutta varten tilattuina sovituksina. Tami Pohjolan säihkyvää viulismia säestävä festivaaliyhtye ja neljä teatterin yhdistämää laulaja-muusikkonäyttelijää tulkitsevat muun muassa klassikot Sommaren är kort ja You Must Believe in Spring. \nAntonio Vivaldi (1678–1741): Konsertto nro 1 E-duuri RV 269 La Primavera (Kevät)\nKaj Chydenius (1939-2024)\, sov. Jukka Nylund:  Oli huhtikuun ilta (Arvo Turtiainen)\nAntonio Vivaldi: Konsertto nro 2 G-molli RV 315 L’estate (Kesä)\nTomas Ledin (1952–)\, sov. Jukka Nylund: Sommaren är kort\nAntonio Vivaldi: Konsertto nro 3 F-duuri RV 293 L’autunno (Syksy)\nErna Tauro (1916–1993)\, sov. Jukka Nylund: Höstvisa (Tove Jansson)\nAntonio Vivaldi: Konsertto nro 4 f-molli RV 297 L’inverno (Talvi)\nJukka Nylund: Fairy Snow \nEsiintyjät:\nTami Pohjola\, sooloviulu\nSiljamari Heikinheimo\, viulu\nUlriikka Heikinheimo\, laulu & viulu\nCharlotta Westerback\, alttoviulu\nAnni Elif\, laulu & sello\nEero Ignatius\, kontrabasso\nEveliina Kytömäki\, cembalo\nAnna Victoria Eriksson\, laulu\nEmilia Nyman\, laulu \nLiput: 35 € / 20 €\nOsta lippu \n 
URL:https://raumafestivo.fi/event/vivaldin-vuodenajat/
LOCATION:Rauma-sali\, Satamakatu 26\, Rauma\, Suomi
ATTACH;FMTTYPE=image/png:https://raumafestivo.fi/wp-content/uploads/Pe_TAMI-e1712509795670.png
END:VEVENT
BEGIN:VEVENT
DTSTART;TZID=Europe/Moscow:20240810T103000
DTEND;TZID=Europe/Moscow:20240810T103000
DTSTAMP:20260419T102959
CREATED:20240407T171722Z
LAST-MODIFIED:20240407T171806Z
UID:5794-1723285800-1723285800@raumafestivo.fi
SUMMARY:Ruuhkavuosien vuodenajat
DESCRIPTION:Ruuhkavuodet menossa tai sitten ei\, tähän konserttiin ovat tervetulleita ihan kaikki! Maailman kuuluisimmat klassisen musiikin kappaleet eli Vivaldin viulukonsertot nuoren virtuoosin Tami Pohjolan ja kahdeksanhenkisen festivaaliyhtyeen esittämän saavat seurakseen Anni Elifin\, Anna Victoria Erikssonin\, Emilia Nymanin ja Ulriikka Heikinheimon tulkintoina sarjan vähän uudempaa vuodenaikojen inspiroimaa musiikkia Syyslaulusta Sommaren är kortiin. \nRauma Festivo tarjoaa vapaan pääsyn konserttiin kaikille vuonna 2024 syntyneille vauvoille vanhempineen sekä elokuussa 2024 ekaluokan aloittaneille raumalaislapsille konserttiseuralaisineen. Ilmoittautumiset paikan varaamiseksi pyydetään osoitteeseen info@raumafestivo.fi. Lapsille tarjotaan konsertin ajaksi myös muuta ohjattua ohjelmaa\, ja konserttia voi käydä kuuntelemassa myös pienemmissä erissä. \nEsiintyjät:\nTami Pohjola\, sooloviulu\nSiljamari Heikinheimo\, viulu\nUlriikka Heikinheimo\, laulu & viulu\nCharlotta Westerback\, alttoviulu\nAnni Elif\, laulu & sello\nEero Ignatius\, kontrabasso\nEveliina Kytömäki\, cembalo\nAnna Victoria Eriksson\, laulu\nEmilia Nyman\, laulu \nLiput: 10 € / 5 €\nPerhelippu 1: 2 aikuista + 2–4 lasta 25 €\nPerhelippu 2: 1 aikuinen + 2–4 lasta 15 €\nOsta lippu
URL:https://raumafestivo.fi/event/ruuhkavuosien-vuodenajat/
LOCATION:Rauma-sali\, Satamakatu 26\, Rauma\, Suomi
ATTACH;FMTTYPE=image/png:https://raumafestivo.fi/wp-content/uploads/La_kaikki-e1712510192281.png
END:VEVENT
BEGIN:VEVENT
DTSTART;TZID=Europe/Moscow:20240810T160000
DTEND;TZID=Europe/Moscow:20240810T160000
DTSTAMP:20260419T102959
CREATED:20240722T081534Z
LAST-MODIFIED:20240722T084012Z
UID:5936-1723305600-1723305600@raumafestivo.fi
SUMMARY:Rauma Festivo: Kahvilakonsertti IV
DESCRIPTION:Aallot vyöryvät merenrantaan Rauma Festivon kahvilakonserttisarjan päättävässä Kuohuja-konsertissa. Kvartetti ILME on vuonna 2021 Tampereella perustettu jousikvartetti\, jonka suunnittelemassa konsertissa Rautavaara kohtaa mm. ruotsalaista kansanmusiikkia. \nKonserttiin on vapaa pääsy. \nOhjelma\nFredrik Sjölin: Shore\nCaroline Shaw: Valencia\nEinojuhani Rautavaara: Jousikvartetto nro 1\nRuotsalainen kansanlaulu: Vals efter Lasse i Lyby\nRune Tonsgaard Sørensen: Shine You No More \nKvartetti ILME\nMaria Turunen\, viulu\nIda Hoefft\, viulu\nAmmi Autere\, alttoviulu\nEero Vahtola\, sello
URL:https://raumafestivo.fi/event/rauma-festivo-kahvilakonsertti-iv/
LOCATION:Cafe Sali\, Kuninkaankatu 22\, Rauma\, 26100\, Suomi
ATTACH;FMTTYPE=image/jpeg:https://raumafestivo.fi/wp-content/uploads/Rauma-Festivo-Ilme-2024-F-A3-vaaka-valkoinen-scaled.jpg
END:VEVENT
BEGIN:VEVENT
DTSTART;TZID=Europe/Moscow:20240810T180000
DTEND;TZID=Europe/Moscow:20240810T180000
DTSTAMP:20260419T102959
CREATED:20240407T172616Z
LAST-MODIFIED:20240804T074036Z
UID:5798-1723312800-1723312800@raumafestivo.fi
SUMMARY:Kimppu sateenkaaria
DESCRIPTION:Myrskyä seuraa lopulta aurinko\, veden pinta tyyntyy ja sateenkaaret kuvastuvat siihen avaten sydämet kauneudellaan. Rauma Festivon päätöskonsertin runollinen kaari alkaa Sibeliuksen sävelin ja Shakespearen säkein Prosperon valtakunnassa\, jossa näyttelijä Miiko Toiviainen sekä sellisti Senja Rummukainen ja pianisti Salla Pynssi pääsevät vuoropuheluun. Ranskalaisen säveltäjän Olivier Messiaenin sota päättyi vankileirille vuonna 1940. Vankien joukossa oli muitakin ammattimuusikoita\, joille ikoninen Aikojen lopun kvartetto(Quatuor pour la fin du temps\, 1941) syntyi. Säveltäjä siteeraa partituurissa Ilmestyskirjan enkeliä: ”Kuulen ja näen unissani järjestettyjä sointuja ja melodioita\, tiettyjä värejä ja muotoja. […] Nämä tulimiekat\, tämä sinisenoranssi laava\, nämä yhtäkkiä syttyvät tähdet: siellä on kimppu\, siellä ovat sateenkaaret!” \nJean Sibelius (1865–1957)\, sov. Jussi Jalas: Myrsky -sarja sellolle ja pianolle\nOtteita Shakespearen näytelmästä Myrsky\nJaakko Kuusisto (1974–2022): Loisto viululle ja pianolle\nAmy Beach (1867-1944): By the Still Waters op. 114 pianolle (3’)\nOlivier Messiaen (1908-1992): Aikojen lopun kvartetto (Quatuor pour la fin du Temps) \nEsiintyjät:\nLauri Sallinen\, klarinetti\nTami Pohjola\, viulu\nPetteri Iivonen\, viulu\nSenja Rummukainen\, sello\nSalla Pynssi\, piano\nMiiko Toiviainen\, lausunta \nLiput: 30 € / 15 €\nOsta lippu \n 
URL:https://raumafestivo.fi/event/kimppu-sateenkaaria/
LOCATION:Kulttuuritalo Poselli\, Nortamonkatu 12\, Rauma
ATTACH;FMTTYPE=image/png:https://raumafestivo.fi/wp-content/uploads/La_SENJA-e1712510692237.png
END:VEVENT
BEGIN:VEVENT
DTSTART;TZID=Europe/Moscow:20240811T180000
DTEND;TZID=Europe/Moscow:20240811T180000
DTSTAMP:20260419T102959
CREATED:20240731T082456Z
LAST-MODIFIED:20240731T083317Z
UID:5954-1723399200-1723399200@raumafestivo.fi
SUMMARY:Pillit soimaan
DESCRIPTION:Rauman seurakunnan ja Rauma Festivon konsertti festivaaliviikon päätteeksi kutsuu kuulemaan vuodenaikojen inspiroimaa musiikkia – satojen pillien voimin! Panhuilun ja urkujen kohtaaminen tapahtuu Vanhan Rauman sydämessä\, fransiskaaniveljien 1500-luvulla rakentamassa Rauman Pyhän Ristin kirkossa.  \nEsiintyjät:\nStefan Stanciu\, panhuilu\nSaara Kukko\, urut \nVapaa pääsy
URL:https://raumafestivo.fi/event/pillit-soimaan/
LOCATION:Pyhän Ristin kirkko\, Luostarinkatu 1\, Rauma\, 26100\, Suomi
ATTACH;FMTTYPE=image/jpeg:https://raumafestivo.fi/wp-content/uploads/Rauma-Festivo-Ilme-2024-F-A3-vaaka-valkoinen-scaled.jpg
END:VEVENT
END:VCALENDAR