BEGIN:VCALENDAR
VERSION:2.0
PRODID:-//Rauma Festivo 4.-8.8.2026 - ECPv6.15.20//NONSGML v1.0//EN
CALSCALE:GREGORIAN
METHOD:PUBLISH
X-WR-CALNAME:Rauma Festivo 4.-8.8.2026
X-ORIGINAL-URL:https://raumafestivo.fi
X-WR-CALDESC:Tapahtumat Rauma Festivo 4.-8.8.2026
REFRESH-INTERVAL;VALUE=DURATION:PT1H
X-Robots-Tag:noindex
X-PUBLISHED-TTL:PT1H
BEGIN:VTIMEZONE
TZID:UTC
BEGIN:STANDARD
TZOFFSETFROM:+0000
TZOFFSETTO:+0000
TZNAME:UTC
DTSTART:20210101T000000
END:STANDARD
END:VTIMEZONE
BEGIN:VTIMEZONE
TZID:Europe/Moscow
BEGIN:STANDARD
TZOFFSETFROM:+0300
TZOFFSETTO:+0300
TZNAME:MSK
DTSTART:20210101T000000
END:STANDARD
END:VTIMEZONE
BEGIN:VEVENT
DTSTART;TZID=UTC:20220805T160000
DTEND;TZID=UTC:20220805T160000
DTSTAMP:20260420T234714
CREATED:20220711T211102Z
LAST-MODIFIED:20220726T171030Z
UID:4828-1659715200-1659715200@raumafestivo.fi
SUMMARY:Kahvilakonsertti II
DESCRIPTION:Café Sali\, Kuninkaankatu 22\nSävelen ja runon suloista liittoa juhlitaan Rauma Festivon kahvilakonserttisarjan lied-konsertissa! Vapaa pääsy.\n\nEsiintyjät: Emma Lammela\, sopraano & Shenran Wang\, piano\n\nOhjelma\nToivo Kuula (1883–1918): Purjein kuutamolla op. 31 nro 1 (Kalle Wuokoski)\nFranz Schubert (1797–1828): Die abgeblühte Linde D. 514 (Ludwig von Széchényi)\nShenran Wang: I Wandered Lonely as a Cloud (William Wordsworth)\nHugo Alfvén (1872-1960): Skogen sover op. 8 nro 26 (Ernest Thiel)\nSå tag mit Hjerte (Tove Ditlevsen)\nJean Sibelius (1865–1957: Kuusi op. 75 nro 5\nWolfgang Amadeus Mozart (1756–1791): Als Luise die Briefe K. 520 (Gabriele von Baumberg)\nEdvard Grieg (1843–1907): Zur Rosenzeit Op. 48 no. 5 (Johann Wolfgang von Goethe)\nWolfgang Amadeus Mozart: Abendempfindung K. 523 (Joachim Heinrich Campe)
URL:https://raumafestivo.fi/event/kahvilakonsertti-ii/
LOCATION:Cafe Sali\, Kuninkaankatu 22\, Rauma\, 26100\, Suomi
ATTACH;FMTTYPE=image/jpeg:https://raumafestivo.fi/wp-content/uploads/FB-taustakuva-scaled.jpg
END:VEVENT
BEGIN:VEVENT
DTSTART;TZID=Europe/Moscow:20220805T140000
DTEND;TZID=Europe/Moscow:20220805T140000
DTSTAMP:20260420T234714
CREATED:20220331T184621Z
LAST-MODIFIED:20220729T070751Z
UID:4494-1659708000-1659708000@raumafestivo.fi
SUMMARY:Viehâ
DESCRIPTION:Sepän talo\, Alfredinkatu 3\nTanssitaiteilija Auri Ahola ja lastenkulttuurin valtionpalkinnon vuonna 2019 saanut rap-artisti Ailu Valle tuovat kulttuurin kohtauspaikkaan\, tunnelmalliseen Sepän taloon otteen Aholan teoksesta Viehâ (Väki). Se käsittelee menetyksen\, luopumisen\, yhteisön ja toivon teemoja saamelaiskulttuurin näkökulmasta. Samassa konsertissa kuullaan raumalaislähtöisen Esko Grundströmin teos harmonikalle\, viululle ja sellolle. \nAuri Ahola: Viehâ\nEsko Grundström: Kriisin neljäs moodi: Eteenpäin \n\n\n\nAuri Ahola\, tanssitaiteilija\nAilu Valle\, rap-artisti\nEsko Grundström\, harmonikka\nMaija Linkola\, viulu\nSenja Rummukainen\, sello \nLiput 25 € / 10 € + mahdolliset toimitus- ja palvelumaksut\nOsta liput täältä \nHUOM! Sepän talo ei ole esteetön.\nSisäänkäynti ja rakennuksessa liikkuminen: Sepän talon ulko-ovelle noustaan kolme porrasta. etuovesta tultaessa noustaan vielä viisi porrasta. Portaissa on kaide\, ei luiskaa. Festivon konsertissa konserttitilassa liikutaan ja kuunnellaan musiikkia myös seisaallaan. \nKonserttipaikkojen saavutettavuustiedot löytyvät täältä.
URL:https://raumafestivo.fi/event/vieha/
LOCATION:Sepän talo\, Alfredinkatu 3\, Rauma
ATTACH;FMTTYPE=image/png:https://raumafestivo.fi/wp-content/uploads/Nayttokuva-2022-5-30-kello-20.35.07.png
END:VEVENT
BEGIN:VEVENT
DTSTART;TZID=UTC:20220805T120000
DTEND;TZID=UTC:20220805T120000
DTSTAMP:20260420T234714
CREATED:20220730T091818Z
LAST-MODIFIED:20220730T091818Z
UID:4962-1659700800-1659700800@raumafestivo.fi
SUMMARY:Festivo-tori: Sukellus sadan vuoden taa
DESCRIPTION:Miten päästään käsiksi aiheisiin\, jotka on jätetty tutkimuksesta pois? Keskustelemassa pianisti Tiina Karakorpi\, joka on tutkinut historiallisten naissäveltäjien teoksia ja Rauman Merimuseon johtaja Anna Meronen. \nPuheissa myös ohjaaja Alice Guy-Blachéen lyhyt elokuvat\, joita nähdään perjantai-illan elokuvakonsertissa Väkevä\, salattu virta Kulttuurikuppila Brummissa. \nFestivon keskipäivän hetkessä Rauman Kauppatorilla Festivon taiteilijat ja mukaan kutsutut raumalaiset keskustelevat maailmankansalaisuudesta\, historiankirjoituksesta pois pudotetuista ja taiteellisen yhteistyön ihanuudesta ja kamaluudesta. Vapaa pääsy.\n \n 
URL:https://raumafestivo.fi/event/festivo-tori-sukellus-sadan-vuoden-taa/
LOCATION:Rauman kauppatori\, Rauma\, 26100
ATTACH;FMTTYPE=image/jpeg:https://raumafestivo.fi/wp-content/uploads/FB-taustakuva-scaled.jpg
END:VEVENT
BEGIN:VEVENT
DTSTART;TZID=Europe/Moscow:20220804T190000
DTEND;TZID=Europe/Moscow:20220804T190000
DTSTAMP:20260420T234714
CREATED:20220331T183112Z
LAST-MODIFIED:20220726T170844Z
UID:4492-1659639600-1659639600@raumafestivo.fi
SUMMARY:Battle
DESCRIPTION:Rauma-sali\, Satamakatu 26\nBattle-näyttämöteoksessa lavalle astuu kaksi huippuammattilaisten joukkuetta: toisen muodostavat rap-artisti Ailu Valle ja ballerina Auri Ahola\, toisen viulisti Terhi Paldanius ja tanssitaitelija Simeoni ”Slyrre äS” Juoperi. Seremoniamestarina toimii jazztrumpetisti Mikko Gunu Karjalainen. Joukkueet yrittävät voittaa vastustajansa yhä hurjemmilla tempuilla\, mutta kuinkas sitten käykään? \nOhjaus ja koreografia: Auri Ahola\, Jimi Kettunen\nMusiikki: Ailu Valle\, Mikko Gunu Karjalainen\, Camille Saint-Saëns \nLiput 25 € / 10 € + mahdolliset toimitus- ja palvelumaksut\nPerhelippu 2 aik. + 2-4 alle 16-v 60 € + mahdolliset toimitus- ja palvelumaksut\nPerhelippu 1 aik. + 2-4 alle 16-v 38 € + + mahdolliset toimitus- ja palvelumaksut\nOsta liput täältä
URL:https://raumafestivo.fi/event/battle/
LOCATION:Rauma-sali\, Satamakatu 26\, Rauma\, Suomi
ATTACH;FMTTYPE=image/jpeg:https://raumafestivo.fi/wp-content/uploads/BAttle-kuv-Jouni-Porsanger-scaled.jpg
END:VEVENT
BEGIN:VEVENT
DTSTART;TZID=Europe/Moscow:20220804T100000
DTEND;TZID=Europe/Moscow:20220804T160000
DTSTAMP:20260420T234714
CREATED:20220331T182405Z
LAST-MODIFIED:20220726T170801Z
UID:4490-1659607200-1659628800@raumafestivo.fi
SUMMARY:Carpe diem!
DESCRIPTION:Vanhan Rauman alue\nTasatunnein soivat yllätyskonsertit ympäri vanhaa Raumaa kutsuvat tarttumaan hetkeen. Mitä kuullaan ja kuka on asialla – se selviää vasta paikan päällä. Tänä vuonna taiteelliset johtajat ovat yhdistäneet festivaalin taiteilijoista pareja heittäytyväisiksi mätseiksi\, joiden Carpe diem -kohtaamisissa on taatusti yllätyksiä mukana! \nKlo 10 Salwi\, Itäkatu 2\nKlo 11 Jussla\, Eteläpitkäkatu 27\nKlo 12 Rauman Pyhän Ristin kirkko\, Luostarinkatu 1\nKlo 13 Aulén\, Kuninkaankatu 36\nKlo 14 Parpa\, Pappilankatu 9\nKlo 15 Nalli\, Eteläpitkäkatu 4\nKlo 16 Vanhan Rauman Tammela\, Eteläpitkäkatu 17 / Lasten ja perheiden Carpe diem
URL:https://raumafestivo.fi/event/carpe-diem/
LOCATION:Vanhan Rauman alue\, Rauma\, 26100
ATTACH;FMTTYPE=image/jpeg:https://raumafestivo.fi/wp-content/uploads/IMG_0400.jpeg
END:VEVENT
BEGIN:VEVENT
DTSTART;TZID=Europe/Moscow:20220803T190000
DTEND;TZID=Europe/Moscow:20220803T190000
DTSTAMP:20260420T234714
CREATED:20220331T181948Z
LAST-MODIFIED:20220726T170702Z
UID:4487-1659553200-1659553200@raumafestivo.fi
SUMMARY:Taituruuden anarkia
DESCRIPTION:Rauma-sali\, Satamakatu 26\nHurmioidu taidon äärimmäiseen hiomiseen elämästään hyvän osan omistaneiden taiteilijoiden esityksistä! Lavalla mm. virtuoosiviulisti Petteri Iivonen\, maailmanluokan sirkustaiteilija Jay Gilligan ja breakdance-ammattilainen Simeoni ”Slyrre äS” Juoperi. Viulisti\, ohjaaja Siljamari Heikinheimo ja tanssitaiteilija Auri Ahola toimivat illan gaalaemäntinä. \nOhjelmassa mm.\nSirkustaiteilija Jay Gilliganin soolo\nTanssitaiteilija Simeoni Juoperin breakdance-soolo\nTiina Karakorpi soittaa Ravelin Scarbon triptyykistä Gaspard de la nuit\nTytti Arola: Uusi teos kahdelle viulistille (kantaesitys)\nViulisti Petteri Iivosen virtuoosinumeroita\nJ. S. Bach: Allegro assai\nW. A. Mozart: Rondo Haffner-serenadista\nNiccoló Paganini: Nel cor piu non mi sento\nAntonio Bazzini La Ronde des Lutins\nHenryk Wieniawski: Poloneesi A-duuri\nPjotr Tšaikovski: Scherzo teoksesta Souvenir d’un lieu cher op. 42\nJohn Corigliano: Kapriisit elokuvasta The Red Violin \n\n\n\n\n\n\nPetteri Iivonen\, Terhi Paldanius & Eriikka Maalismaa\, viulu\nTiina Karakorpi & Salla Pynssi\, piano\nSimeoni ”Slyrre äS”\, tanssitaitelija\nJay Gilligan\, sirkustaiteilija \nLiput 35 € / 10 € + mahdolliset toimitus- ja palvelumaksut\nOsta liput täältä
URL:https://raumafestivo.fi/event/taituruuden-anarkia/
LOCATION:Rauma-sali\, Satamakatu 26\, Rauma\, Suomi
ATTACH;FMTTYPE=image/jpeg:https://raumafestivo.fi/wp-content/uploads/echo-rings-scaled-e1657986017433.jpg
END:VEVENT
BEGIN:VEVENT
DTSTART;TZID=UTC:20220803T160000
DTEND;TZID=UTC:20220803T160000
DTSTAMP:20260420T234714
CREATED:20220711T210056Z
LAST-MODIFIED:20220726T170605Z
UID:4825-1659542400-1659542400@raumafestivo.fi
SUMMARY:Kahvilakonsertti I
DESCRIPTION:Café Sali\, Kuninkaankatu 22\nRauma Festivon kahvilakonserttisarja Café Salissa torin laidalla avataan suomalaisella viulumusiikilla. Turun Taideakatemiassa syntynyt duo soittaa Sibeliuksen\, Rautavaaran ja Väinö Raition teoksia. Vapaa pääsy!\n\nEsiintyjät: Tuuli Raitio\, viulu & Josefin Kavén\, piano\n\nOhjelma\nVäinö Raitio (1891–1945): Elegia\nJean Sibelius (1865–1957): Kuusi kappaletta viululle ja pianolle op. 79 / 1. Souvenir; 5. Tanz-Idylle & 6. Berceuse\nEinojuhani Rautavaara (1928–2016): Notturno e Danza
URL:https://raumafestivo.fi/event/kahvilakonsertti-i/
LOCATION:Cafe Sali\, Kuninkaankatu 22\, Rauma\, 26100\, Suomi
ATTACH;FMTTYPE=image/jpeg:https://raumafestivo.fi/wp-content/uploads/FB-taustakuva-scaled.jpg
END:VEVENT
BEGIN:VEVENT
DTSTART;TZID=UTC:20220803T120000
DTEND;TZID=UTC:20220803T120000
DTSTAMP:20260420T234714
CREATED:20220730T090700Z
LAST-MODIFIED:20220730T090700Z
UID:4958-1659528000-1659528000@raumafestivo.fi
SUMMARY:Festivo-tori: Maailmankansalaiset
DESCRIPTION:Kun leipä palasina maailmalla ja  taide vaatii usein toiselle mantereelle siirtymisen. Mikä on parasta? Entä pahinta? Keskustelemassa sirkustaiteilija Jay Gilligan ja sopraano Marjukka Tepponen . \nVapaa pääsy. \nFestivon keskipäivän hetkessä Rauman Kauppatorilla Festivon taiteilijat ja mukaan kutsutut raumalaiset keskustelevat maailmankansalaisuudesta\, historiankirjoituksesta pois pudotetuista ja taiteellisen yhteistyön ihanuudesta ja kamaluudesta. 
URL:https://raumafestivo.fi/event/festivo-tori-maailmankansalaiset/
LOCATION:Rauman kauppatori\, Rauma\, 26100
ATTACH;FMTTYPE=image/jpeg:https://raumafestivo.fi/wp-content/uploads/FB-taustakuva-scaled.jpg
END:VEVENT
BEGIN:VEVENT
DTSTART;TZID=Europe/Moscow:20220802T190000
DTEND;TZID=Europe/Moscow:20220802T190000
DTSTAMP:20260420T234714
CREATED:20220331T180807Z
LAST-MODIFIED:20220726T170459Z
UID:4482-1659466800-1659466800@raumafestivo.fi
SUMMARY:Hiljainen riemu
DESCRIPTION:Kustaa Aadolfin kirkko\, Eurajoki\nKamarimusiikkikirjallisuuden kirkkain kruunu\, Franz Schubertin säteilevä jousikvintetto kohtaa kirkon avaran holvin alla Arvo Pärtin rakastetun Fratres-mediaation\, johon tanssitaiteilija Auri Ahola esittää oman koreografiansa. Hiljaiseen hurmioitumiseen kamarimusiikkifestivaali Rauma Festivon avajaispäivänä johdattaa seitsemän valovoimaisen taiteilijan joukko. \nArvo Pärt (1935–) Fratres jousikvartetille\nFranz Schubert (1797–1828) Jousikvintetto C-duuri D. 956 \n\n\n\n\n\n\nAuri Ahola\, tanssi\nSiljamari Heikinheimo\, Petteri Iivonen & Leena Jaakkola\, viulu\nRémi Moingeon\, alttoviulu\nSamuli Peltonen & Senja Rummukainen\, sello \nLiput 25 € / 10 € + mahdolliset toimitus- ja palvelumaksut\nOsta liput täältä
URL:https://raumafestivo.fi/event/hiljainen-riemu/
LOCATION:Kustaa Aadolfin kirkko\, Kirkkotie 8\, Eurajoki\, 27100
ATTACH;FMTTYPE=image/png:https://raumafestivo.fi/wp-content/uploads/Nayttokuva-2022-5-30-kello-19.34.58.png
END:VEVENT
BEGIN:VEVENT
DTSTART;TZID=Europe/Moscow:20220802T140000
DTEND;TZID=Europe/Moscow:20220802T140000
DTSTAMP:20260420T234714
CREATED:20220331T175550Z
LAST-MODIFIED:20220801T052707Z
UID:4478-1659448800-1659448800@raumafestivo.fi
SUMMARY:Metamorfooseja
DESCRIPTION:Rauma-sali\, Satamakatu 26\nRauma Festivon avajaiskonsertissa esitettävä teos yhdistää musiikkia\, nykytanssia\, kuvataidetta ja runoutta. Teoksella on myös sisar: samanniminen installaatio\, joka on esillä Rauman Taidemuseon Rauma Triennaalissa kesällä 2022.\nOhjaus & käsikirjoitus\, käännökset ja video: Teemu Mäki\nKoreografia: Laura Koistinen\, Saku Koistinen\nHuom: Sairastumisen vuoksi tanssitaiteilija Laura Koistisen ja Saku Koistisen Metamorfooseja-esityksestä jää pois.\n\nTanssijat\nLaura Koistinen\, Saku Koistinen\, Sara Lavonius\, Leila Peltomaa\, Pirkko Tahvanainen\, Elina Tiainen\nMuusikot\nPiia Komsi\, sopraano\nTiina Karakorpi\, pianoSiljamari Heikinheimo & Maija Linkola\, viuluAtte Kilpeläinen & Rémi Moingeon\, alttoviuluSenja Rummukainen & Samuli Peltonen\, selloMaria Krykov\, kontrabasso\nBenjamin Britten (1913–1976)  Elegy for Solo Viola (1930)\nRiikka Talvitie (1970–) Jotta ehditte pettyä sopraanolle ja lelupianolle (2018)\, sanat Teemu Mäki\nRichard Strauss (1864–1949) Metamorphosen 23 jousisoittajalle (1944–1945)\n\nRudolph Leopoldin sovitus jousiseptetille (1996)\nRiikka Talvitie Tänään sataa lunta sopraanolle ja pianolle (2018) sanat Teemu Mäki\nRichard Strauss:  Morgen! sopraanolle\, pianolle ja viululle (1894) sanat John Henry Mackay\nTeoksen video-osuus sisältää Teemu Mäen muunnelman Chris Jordanin alkuperäisteoksesta.\nLiput 25 € / 10 € + mahdolliset toimitus- ja palvelumaksut\nOsta liput täältä
URL:https://raumafestivo.fi/event/metamorfooseja/
LOCATION:Rauma-sali\, Satamakatu 26\, Rauma\, Suomi
ATTACH;FMTTYPE=image/png:https://raumafestivo.fi/wp-content/uploads/Nayttokuva-2022-5-30-kello-18.56.55.png
END:VEVENT
BEGIN:VEVENT
DTSTART;TZID=UTC:20220802T120000
DTEND;TZID=UTC:20220802T120000
DTSTAMP:20260420T234714
CREATED:20220730T085856Z
LAST-MODIFIED:20220730T095145Z
UID:4953-1659441600-1659441600@raumafestivo.fi
SUMMARY:Festivo-tori: Kaksin kaunihimpi
DESCRIPTION:Millaista on taiteellisen yhteistyön tekeminen? Keskustelemassa tämän vuoden Festivon taiteellisesta suunnittelusta vastanneet viulisti\, ohjaaja Siljamari Heikinheimo & tanssitaiteilija Auri Ahola sekä Rauman taidemuseon intendentti Heta Kaisto\, joka kuratoi Rauma Triennalen 2022 Imagine! Mitä jos! yhdessä taiteilija Teemu Mäen kanssa. \nVapaa pääsy. \nFestivon keskipäivän hetkessä Rauman Kauppatorilla Festivon taiteilijat ja mukaan kutsutut raumalaiset keskustelevat maailmankansalaisuudesta\, historiankirjoituksesta pois pudotetuista ja taiteellisen yhteistyön ihanuudesta ja kamaluudesta. 
URL:https://raumafestivo.fi/event/festivo-tori-kaksin-kaunihimpi/
LOCATION:Rauman kauppatori\, Rauma\, 26100
ATTACH;FMTTYPE=image/jpeg:https://raumafestivo.fi/wp-content/uploads/FB-taustakuva-scaled.jpg
END:VEVENT
BEGIN:VEVENT
DTSTART;TZID=UTC:20220801T193000
DTEND;TZID=UTC:20220801T193000
DTSTAMP:20260420T234714
CREATED:20220721T103807Z
LAST-MODIFIED:20220726T170220Z
UID:4884-1659382200-1659382200@raumafestivo.fi
SUMMARY:Festivo-etkot
DESCRIPTION:Spärrin piha\, Kuninkaankatu 10\nPerinteisillä Festivo-etkoilla Vanhan Rauman sydämessä tutustutaan viikon taiteilijoihin\, kuullaan yllätysesityksiä ja nautitaan ihanan yhteistyökumppanimme tarjoamia virvokkeita!\nVapaa pääsy.
URL:https://raumafestivo.fi/event/festivo-etkot/
LOCATION:Spärrin piha\, Kuninkaankatu 10\, Rauma\, 26100\, Suomi
ATTACH;FMTTYPE=image/jpeg:https://raumafestivo.fi/wp-content/uploads/FB-taustakuva-scaled.jpg
END:VEVENT
BEGIN:VEVENT
DTSTART;TZID=UTC:20220425T130000
DTEND;TZID=UTC:20220425T130000
DTSTAMP:20260420T234714
CREATED:20220407T153710Z
LAST-MODIFIED:20220411T195630Z
UID:4576-1650891600-1650891600@raumafestivo.fi
SUMMARY:Shakespearen innoittamat
DESCRIPTION:Shakespearen monologit kohtaavat myöhempinä vuosisatoina syntyneet sisarensa: Sibeliuksen Myrsky\, Prokofjevin Romeo ja Julia\, Korngoldin Paljon melua tyhjästä ja Bernsteinin West Side Story marssivat näyttämölle Soivat kirjat -konserttikiertueen toteutuksena Rauman pääkirjaston suojissa.\n\nEsiintyjät:\nVille Seivo\, näyttelijä  – Siljamari Heikinheimo\, viulu  – Salla Pynssi\, piano\n”Niin rajaton mull’ aulius kuin meri\, niin syvä rakkaus: mit’ enemmän suon sinulle\, sen enemmän on mulla.”\n\nVapaa pääsy\nVapaaehtoisen käsiohjelmamaksun tulot lahjoitetaan Unicefin hätäavun kautta Ukrainan lapsille
URL:https://raumafestivo.fi/event/shakespearen-innoittamat/
LOCATION:Rauman pääkirjasto\, Alfredinkatu 1\, Rauma\, 26100
ATTACH;FMTTYPE=image/jpeg:https://raumafestivo.fi/wp-content/uploads/Siljamari_Heikinheimo_1_2021-scaled-e1618935192388.jpg
END:VEVENT
END:VCALENDAR